BEGIN:VCALENDAR
VERSION:2.0
PRODID:-//Pesterzsébet Hivatalos oldala - ECPv6.15.20//NONSGML v1.0//EN
CALSCALE:GREGORIAN
METHOD:PUBLISH
X-WR-CALNAME:Pesterzsébet Hivatalos oldala
X-ORIGINAL-URL:https://pesterzsebet.hu
X-WR-CALDESC:Események Pesterzsébet Hivatalos oldala
REFRESH-INTERVAL;VALUE=DURATION:PT1H
X-Robots-Tag:noindex
X-PUBLISHED-TTL:PT1H
BEGIN:VTIMEZONE
TZID:Europe/Budapest
BEGIN:DAYLIGHT
TZOFFSETFROM:+0100
TZOFFSETTO:+0200
TZNAME:CEST
DTSTART:20230326T010000
END:DAYLIGHT
BEGIN:STANDARD
TZOFFSETFROM:+0200
TZOFFSETTO:+0100
TZNAME:CET
DTSTART:20231029T010000
END:STANDARD
BEGIN:DAYLIGHT
TZOFFSETFROM:+0100
TZOFFSETTO:+0200
TZNAME:CEST
DTSTART:20240331T010000
END:DAYLIGHT
BEGIN:STANDARD
TZOFFSETFROM:+0200
TZOFFSETTO:+0100
TZNAME:CET
DTSTART:20241027T010000
END:STANDARD
BEGIN:DAYLIGHT
TZOFFSETFROM:+0100
TZOFFSETTO:+0200
TZNAME:CEST
DTSTART:20250330T010000
END:DAYLIGHT
BEGIN:STANDARD
TZOFFSETFROM:+0200
TZOFFSETTO:+0100
TZNAME:CET
DTSTART:20251026T010000
END:STANDARD
END:VTIMEZONE
BEGIN:VEVENT
DTSTART;TZID=Europe/Budapest:20241025T103000
DTEND;TZID=Europe/Budapest:20241025T120000
DTSTAMP:20260424T013611
CREATED:20240930T214341Z
LAST-MODIFIED:20240930T214341Z
UID:41920-1729852200-1729857600@pesterzsebet.hu
SUMMARY:Alice Csodaországban
DESCRIPTION:Modern táncszínházi előadás iskolai csoportok részére
URL:https://pesterzsebet.hu/esemeny/alice-csodaorszagban/
LOCATION:Csili Művelődési Központ\, Nagy Győry István u. 4-6.\, Budapest\, 1203\, Hungary
CATEGORIES:Kulturális esemény
ATTACH;FMTTYPE=image/jpeg:https://pesterzsebet.hu/wp-content/uploads/alice-1_page-0001-e1727732513822.jpg
END:VEVENT
END:VCALENDAR