BEGIN:VCALENDAR
VERSION:2.0
PRODID:-//Pesterzsébet Hivatalos oldala - ECPv6.15.20//NONSGML v1.0//EN
CALSCALE:GREGORIAN
METHOD:PUBLISH
X-ORIGINAL-URL:https://pesterzsebet.hu
X-WR-CALDESC:Események Pesterzsébet Hivatalos oldala
REFRESH-INTERVAL;VALUE=DURATION:PT1H
X-Robots-Tag:noindex
X-PUBLISHED-TTL:PT1H
BEGIN:VTIMEZONE
TZID:Europe/Budapest
BEGIN:DAYLIGHT
TZOFFSETFROM:+0100
TZOFFSETTO:+0200
TZNAME:CEST
DTSTART:20220327T010000
END:DAYLIGHT
BEGIN:STANDARD
TZOFFSETFROM:+0200
TZOFFSETTO:+0100
TZNAME:CET
DTSTART:20221030T010000
END:STANDARD
BEGIN:DAYLIGHT
TZOFFSETFROM:+0100
TZOFFSETTO:+0200
TZNAME:CEST
DTSTART:20230326T010000
END:DAYLIGHT
BEGIN:STANDARD
TZOFFSETFROM:+0200
TZOFFSETTO:+0100
TZNAME:CET
DTSTART:20231029T010000
END:STANDARD
BEGIN:DAYLIGHT
TZOFFSETFROM:+0100
TZOFFSETTO:+0200
TZNAME:CEST
DTSTART:20240331T010000
END:DAYLIGHT
BEGIN:STANDARD
TZOFFSETFROM:+0200
TZOFFSETTO:+0100
TZNAME:CET
DTSTART:20241027T010000
END:STANDARD
END:VTIMEZONE
BEGIN:VEVENT
DTSTART;TZID=Europe/Budapest:20230722T180000
DTEND;TZID=Europe/Budapest:20230722T200000
DTSTAMP:20260422T164945
CREATED:20230629T123323Z
LAST-MODIFIED:20230629T123324Z
UID:37732-1690048800-1690056000@pesterzsebet.hu
SUMMARY:Nyári esti koncertek a Csiliben Énekel a cimbalom
DESCRIPTION:Balogh Kálmán cimbalomművész\, aki talán a legtöbbet tette a cimbalom népszerűsítésért. Már 1985-ben a Népművészet Ifjú Mestere cím kitüntetettje lett. Ezen kívül számos kitüntetés birtokosa: 2019-ben Prima Primissima-díjjal is elismerték munkásságát.\nA muzsikus szinte valamennyi magyar autentikus és feldolgozott népzenét játszó együttessel játszott már\, és több lemeze is megjelent. Világszerte koncertezik\, a népzenei produkciókon kívül szimfonikus és dzsesszzenekarokkal\, valamint kortárs együttesekkel is.\nSzabadon improvizáló művész\, fellépéseit sokan követik\, keresik. Megalakította a Gypsy Cimbalom Band együttest\, akik különösen népszerűek itthon és szerte a világban. Évek óta tanít a Zeneakadémia Népzene Tanszékén. \nA Csili Nyáresti koncertsorozatának ezen állomásán a Junior Prima díjas Básits Branka csatlakozik Balogh Kálmánhoz. \nBásits Branka egy igazán vibráló\, színes személyiség és énekes – nem véletlenül nyerte el 2016-ban a Junius Prima díjat. Számos világzenei formációban megfordult már\, de szólóban is rendszeresen bizonyít. A színpadon hatalmas szenvedéllyel és erővel énekel\, ugyanakkor képes olyan lágy és finom hangokra\, melyek a legkeményebb szívig is elérnek. Az énekesnő édesapja szerb\, édesanyja magyar\, így ennek a két hagyománynak az ölelésében nőtt fel\, ez vált legfőbb inspirációjává. Branka önmagáról így vall: “A magyarság körbevesz a mindennapokban\, hiszen itt élek\, ez természetesen\, magától működik bennem\, de a szerbségemért meg kell küzdeni\, ápolni kell nap mint nap.” \nA kettejük találkozásából született műsor egyedinek\, ugyanakkor rendkívül sokszínű\, izgalmas érdekes zenei utazásnak ígérkezik – remélem\, sokan velünk tartanak!
URL:https://pesterzsebet.hu/esemeny/nyari-esti-koncertek-a-csiliben-enekel-a-cimbalom/
LOCATION:Csili Udvar\, Baross utca 55.\, Budapest\, 1201
CATEGORIES:Koncert
ATTACH;FMTTYPE=image/png:https://pesterzsebet.hu/wp-content/uploads/zeneazkell_oda-e1688041941378.png
END:VEVENT
END:VCALENDAR