BEGIN:VCALENDAR
VERSION:2.0
PRODID:-//Pesterzsébet Hivatalos oldala - ECPv6.15.20//NONSGML v1.0//EN
CALSCALE:GREGORIAN
METHOD:PUBLISH
X-ORIGINAL-URL:https://pesterzsebet.hu
X-WR-CALDESC:Események Pesterzsébet Hivatalos oldala
REFRESH-INTERVAL;VALUE=DURATION:PT1H
X-Robots-Tag:noindex
X-PUBLISHED-TTL:PT1H
BEGIN:VTIMEZONE
TZID:Europe/Budapest
BEGIN:DAYLIGHT
TZOFFSETFROM:+0100
TZOFFSETTO:+0200
TZNAME:CEST
DTSTART:20220327T010000
END:DAYLIGHT
BEGIN:STANDARD
TZOFFSETFROM:+0200
TZOFFSETTO:+0100
TZNAME:CET
DTSTART:20221030T010000
END:STANDARD
BEGIN:DAYLIGHT
TZOFFSETFROM:+0100
TZOFFSETTO:+0200
TZNAME:CEST
DTSTART:20230326T010000
END:DAYLIGHT
BEGIN:STANDARD
TZOFFSETFROM:+0200
TZOFFSETTO:+0100
TZNAME:CET
DTSTART:20231029T010000
END:STANDARD
BEGIN:DAYLIGHT
TZOFFSETFROM:+0100
TZOFFSETTO:+0200
TZNAME:CEST
DTSTART:20240331T010000
END:DAYLIGHT
BEGIN:STANDARD
TZOFFSETFROM:+0200
TZOFFSETTO:+0100
TZNAME:CET
DTSTART:20241027T010000
END:STANDARD
END:VTIMEZONE
BEGIN:VEVENT
DTSTART;TZID=Europe/Budapest:20231111T100000
DTEND;TZID=Europe/Budapest:20231111T140000
DTSTAMP:20260420T172546
CREATED:20231104T200324Z
LAST-MODIFIED:20231104T200324Z
UID:38960-1699696800-1699711200@pesterzsebet.hu
SUMMARY:Családi nap
DESCRIPTION:Programok:\n10.00 – Mazsola és Tádé\nA Fabula Bábszínház előadása\n„Tartsuk meg Tádét\, Manócska! Tartsuk meg!” – kérleli Mazsola Manócskát\, amikor megtalálják a kis tengerimalacot. Mazsola később százszor is megbánja\, hogy befogadták a malackát\, hiszen az nála sokkal kisebb\, gyámoltalanabb és nem lehet vele akkor és úgy játszani\, ahogy Mazsola szeretne. Az olykor szigorú\, ám mindig megértő Manócska segítségével Mazsola jószívűsége újra meg újra felülkerekedik dacosságán.\n11.00 – 14.00 Családi táncház a Téka együttessel és kézműves foglalkozás\nBelépő: 1 200 Ft (3 év alatt ingyenes)\nA táncházat az Nemzeti Kulturális Támogatáskezelő Csoóri Sándor programja támogatja.
URL:https://pesterzsebet.hu/esemeny/csaladi-nap-5/
LOCATION:Csili Művelődési Központ- Vízvári terem\, Baross utca 55.\, Budapest
CATEGORIES:Kulturális esemény
ATTACH;FMTTYPE=image/png:https://pesterzsebet.hu/wp-content/uploads/csaladi-nap-e1699127989901.png
END:VEVENT
END:VCALENDAR