BEGIN:VCALENDAR
VERSION:2.0
PRODID:-//Pesterzsébet Hivatalos oldala - ECPv6.15.20//NONSGML v1.0//EN
CALSCALE:GREGORIAN
METHOD:PUBLISH
X-ORIGINAL-URL:https://pesterzsebet.hu
X-WR-CALDESC:Események Pesterzsébet Hivatalos oldala
REFRESH-INTERVAL;VALUE=DURATION:PT1H
X-Robots-Tag:noindex
X-PUBLISHED-TTL:PT1H
BEGIN:VTIMEZONE
TZID:Europe/Budapest
BEGIN:DAYLIGHT
TZOFFSETFROM:+0100
TZOFFSETTO:+0200
TZNAME:CEST
DTSTART:20230326T010000
END:DAYLIGHT
BEGIN:STANDARD
TZOFFSETFROM:+0200
TZOFFSETTO:+0100
TZNAME:CET
DTSTART:20231029T010000
END:STANDARD
BEGIN:DAYLIGHT
TZOFFSETFROM:+0100
TZOFFSETTO:+0200
TZNAME:CEST
DTSTART:20240331T010000
END:DAYLIGHT
BEGIN:STANDARD
TZOFFSETFROM:+0200
TZOFFSETTO:+0100
TZNAME:CET
DTSTART:20241027T010000
END:STANDARD
BEGIN:DAYLIGHT
TZOFFSETFROM:+0100
TZOFFSETTO:+0200
TZNAME:CEST
DTSTART:20250330T010000
END:DAYLIGHT
BEGIN:STANDARD
TZOFFSETFROM:+0200
TZOFFSETTO:+0100
TZNAME:CET
DTSTART:20251026T010000
END:STANDARD
END:VTIMEZONE
BEGIN:VEVENT
DTSTART;TZID=Europe/Budapest:20240120T100000
DTEND;TZID=Europe/Budapest:20240120T140000
DTSTAMP:20260420T140312
CREATED:20240105T072719Z
LAST-MODIFIED:20240105T072719Z
UID:39565-1705744800-1705759200@pesterzsebet.hu
SUMMARY:Családi nap
DESCRIPTION:10 órától zenés mesejátékkal kezdjük a Családi napot: Gulliver Lilliputban és az óriások földjén című darabjával\, az Óperenciás Bábszínház előadásában.\nA Swift regényéből készült mesejátékban Gulliver hajótörést követően a mesés Keleten\, Lilliputban\, majd az óriások földjén találja magát\, ahol számtalan kalandban lesz része. A darab egyedi zenei világát az eredeti keleti zenék adják.\n11 órától pedig a Táncházban a Téka játszik autentikus talpalávalót a család aprajának és nagyjának.\nAki még nem tudja a lépéseket\, figurákat\, itt megtanulhatja Széll Márta néptáncművész\, koreográfus\, művésztanár\, táncházunk vezetőjének segítségével.\nZenekar: Téka együttes\nHelyszín: Csili “B” épület (Baross utca 55.)\nBelépő: 1 200 Ft\nA táncházat a Nemzeti Kulturális Támogatáskezelő Csoóri Sándor programja támogatja.
URL:https://pesterzsebet.hu/esemeny/csaladi-nap-6/
LOCATION:Csili Művelődési Központ “B” épület\, Baross u. 55.\, Budapest\, Pest megye\, 1201\, Magyarország
CATEGORIES:Kulturális esemény
ATTACH;FMTTYPE=image/png:https://pesterzsebet.hu/wp-content/uploads/januar_csaladi-nap-e1704439458822.png
END:VEVENT
END:VCALENDAR