BEGIN:VCALENDAR
VERSION:2.0
PRODID:-//Pesterzsébet Hivatalos oldala - ECPv6.15.20//NONSGML v1.0//EN
CALSCALE:GREGORIAN
METHOD:PUBLISH
X-WR-CALNAME:Pesterzsébet Hivatalos oldala
X-ORIGINAL-URL:https://pesterzsebet.hu
X-WR-CALDESC:Események Pesterzsébet Hivatalos oldala
REFRESH-INTERVAL;VALUE=DURATION:PT1H
X-Robots-Tag:noindex
X-PUBLISHED-TTL:PT1H
BEGIN:VTIMEZONE
TZID:Europe/Budapest
BEGIN:DAYLIGHT
TZOFFSETFROM:+0100
TZOFFSETTO:+0200
TZNAME:CEST
DTSTART:20230326T010000
END:DAYLIGHT
BEGIN:STANDARD
TZOFFSETFROM:+0200
TZOFFSETTO:+0100
TZNAME:CET
DTSTART:20231029T010000
END:STANDARD
BEGIN:DAYLIGHT
TZOFFSETFROM:+0100
TZOFFSETTO:+0200
TZNAME:CEST
DTSTART:20240331T010000
END:DAYLIGHT
BEGIN:STANDARD
TZOFFSETFROM:+0200
TZOFFSETTO:+0100
TZNAME:CET
DTSTART:20241027T010000
END:STANDARD
BEGIN:DAYLIGHT
TZOFFSETFROM:+0100
TZOFFSETTO:+0200
TZNAME:CEST
DTSTART:20250330T010000
END:DAYLIGHT
BEGIN:STANDARD
TZOFFSETFROM:+0200
TZOFFSETTO:+0100
TZNAME:CET
DTSTART:20251026T010000
END:STANDARD
END:VTIMEZONE
BEGIN:VEVENT
DTSTART;TZID=Europe/Budapest:20240608T100000
DTEND;TZID=Europe/Budapest:20240608T200000
DTSTAMP:20260420T045759
CREATED:20240603T185240Z
LAST-MODIFIED:20240603T185240Z
UID:40912-1717840800-1717876800@pesterzsebet.hu
SUMMARY:Családok Napja
DESCRIPTION:2024. június 8-án szombaton 10:00-20:00 óra között Pesterzsébet Babaparkban (1203 Budapest\, Zodony utca 1.\, Mediterrán lakópark) \nProgram: \n10:00 Megnyitó\, Környezetszépítő verseny díjátadás \n10:15 Faültetés a 2024. évi pesterzsébeti elsőszülött babának \n10:30 Sport és tánc show\, Legyél te is ESMTK sportoló- bemutatkoznak a szakosztályok\, Pesterzsébet művészeti Stúdió\, Óvodások a színpadon\, Hardsteppers Tánc- és Sport Egyesület \n14:00 Tóth Napsugár (Sztárban Sztár) \n15:00 Bódi Guszti & Margó \n16:00 Apacuka Zenekar \n18:00 Csinibaba Party Marót Vikivel és a Nova Kultúr Zenekarral
URL:https://pesterzsebet.hu/esemeny/csaladok-napja/
LOCATION:Mediterrán Lakópark – Pesterzsébet Babapark\, Zodony u. 1.\, Budapest\, 1203
CATEGORIES:Koncert
ATTACH;FMTTYPE=image/jpeg:https://pesterzsebet.hu/wp-content/uploads/fekvo_csaladi-2024-02-scaled-e1717440632278.jpg
END:VEVENT
END:VCALENDAR