BEGIN:VCALENDAR
VERSION:2.0
PRODID:-//Pesterzsébet Hivatalos oldala - ECPv6.15.20//NONSGML v1.0//EN
CALSCALE:GREGORIAN
METHOD:PUBLISH
X-ORIGINAL-URL:https://pesterzsebet.hu
X-WR-CALDESC:Események Pesterzsébet Hivatalos oldala
REFRESH-INTERVAL;VALUE=DURATION:PT1H
X-Robots-Tag:noindex
X-PUBLISHED-TTL:PT1H
BEGIN:VTIMEZONE
TZID:Europe/Budapest
BEGIN:DAYLIGHT
TZOFFSETFROM:+0100
TZOFFSETTO:+0200
TZNAME:CEST
DTSTART:20230326T010000
END:DAYLIGHT
BEGIN:STANDARD
TZOFFSETFROM:+0200
TZOFFSETTO:+0100
TZNAME:CET
DTSTART:20231029T010000
END:STANDARD
BEGIN:DAYLIGHT
TZOFFSETFROM:+0100
TZOFFSETTO:+0200
TZNAME:CEST
DTSTART:20240331T010000
END:DAYLIGHT
BEGIN:STANDARD
TZOFFSETFROM:+0200
TZOFFSETTO:+0100
TZNAME:CET
DTSTART:20241027T010000
END:STANDARD
BEGIN:DAYLIGHT
TZOFFSETFROM:+0100
TZOFFSETTO:+0200
TZNAME:CEST
DTSTART:20250330T010000
END:DAYLIGHT
BEGIN:STANDARD
TZOFFSETFROM:+0200
TZOFFSETTO:+0100
TZNAME:CET
DTSTART:20251026T010000
END:STANDARD
END:VTIMEZONE
BEGIN:VEVENT
DTSTART;TZID=Europe/Budapest:20241019T100000
DTEND;TZID=Europe/Budapest:20241019T140000
DTSTAMP:20260419T205207
CREATED:20240921T170859Z
LAST-MODIFIED:20240921T170859Z
UID:41787-1729332000-1729346400@pesterzsebet.hu
SUMMARY:Családi nap – Jancsi és Juliska
DESCRIPTION:Jancsi és Juliska – bábjáték a testvéri szeretetről – Batyu Színház előadása \nA Grimm fivérek meséje nyomán írta és rendezte: Albert Péter\nA X.Kelenvölgyi Bábjátékos Találkozón a Legjobb bábszínpadi dramaturgia díjat kapta. \nAz előadás után családi táncház a Téka együttessel és kézműves foglalkozás is várj a vendégeket.
URL:https://pesterzsebet.hu/esemeny/csaladi-nap-jancsi-es-juliska/
LOCATION:Csili Művelődési Ház Vízvári László termében\, Baross utca 55.\, Budapest\, 1201
CATEGORIES:Kulturális esemény
ATTACH;FMTTYPE=image/jpeg:https://pesterzsebet.hu/wp-content/uploads/csaladinap-e1726938497666.jpg
END:VEVENT
END:VCALENDAR