BEGIN:VCALENDAR
VERSION:2.0
PRODID:-//Pesterzsébet Hivatalos oldala - ECPv6.15.20//NONSGML v1.0//EN
CALSCALE:GREGORIAN
METHOD:PUBLISH
X-WR-CALNAME:Pesterzsébet Hivatalos oldala
X-ORIGINAL-URL:https://pesterzsebet.hu
X-WR-CALDESC:Események Pesterzsébet Hivatalos oldala
REFRESH-INTERVAL;VALUE=DURATION:PT1H
X-Robots-Tag:noindex
X-PUBLISHED-TTL:PT1H
BEGIN:VTIMEZONE
TZID:Europe/Budapest
BEGIN:DAYLIGHT
TZOFFSETFROM:+0100
TZOFFSETTO:+0200
TZNAME:CEST
DTSTART:20220327T010000
END:DAYLIGHT
BEGIN:STANDARD
TZOFFSETFROM:+0200
TZOFFSETTO:+0100
TZNAME:CET
DTSTART:20221030T010000
END:STANDARD
BEGIN:DAYLIGHT
TZOFFSETFROM:+0100
TZOFFSETTO:+0200
TZNAME:CEST
DTSTART:20230326T010000
END:DAYLIGHT
BEGIN:STANDARD
TZOFFSETFROM:+0200
TZOFFSETTO:+0100
TZNAME:CET
DTSTART:20231029T010000
END:STANDARD
BEGIN:DAYLIGHT
TZOFFSETFROM:+0100
TZOFFSETTO:+0200
TZNAME:CEST
DTSTART:20240331T010000
END:DAYLIGHT
BEGIN:STANDARD
TZOFFSETFROM:+0200
TZOFFSETTO:+0100
TZNAME:CET
DTSTART:20241027T010000
END:STANDARD
BEGIN:DAYLIGHT
TZOFFSETFROM:+0100
TZOFFSETTO:+0200
TZNAME:CEST
DTSTART:20250330T010000
END:DAYLIGHT
BEGIN:STANDARD
TZOFFSETFROM:+0200
TZOFFSETTO:+0100
TZNAME:CET
DTSTART:20251026T010000
END:STANDARD
END:VTIMEZONE
BEGIN:VEVENT
DTSTART;TZID=Europe/Budapest:20240208T130000
DTEND;TZID=Europe/Budapest:20240208T170000
DTSTAMP:20260419T163215
CREATED:20240203T193744Z
LAST-MODIFIED:20240203T193744Z
UID:39801-1707397200-1707411600@pesterzsebet.hu
SUMMARY:Általános iskolás lány II. korcsoport kosárlabda bajnokság
DESCRIPTION:A mérkőzések időpontja és helyszíne: 2024. február 8. (csütörtök) 13:00 óra\, Budapest XX. Kerületi Hajós Alfréd Általános Iskola (1203. Budapest Lajtha László u. 5-7.).
URL:https://pesterzsebet.hu/esemeny/altalanos-iskolas-lany-ii-korcsoport-kosarlabda-bajnoksag/
LOCATION:Hajós Alfréd Általános Iskola\, Lajtha László utca 5-7.\, Budapest\, 1203
CATEGORIES:Sport
ATTACH;FMTTYPE=image/jpeg:https://pesterzsebet.hu/wp-content/uploads/table-wood-play-floor-basketball-produce-1349120-pxhere.com_-scaled-e1706988793599.jpg
END:VEVENT
BEGIN:VEVENT
DTSTART;TZID=Europe/Budapest:20240206T130000
DTEND;TZID=Europe/Budapest:20240207T170000
DTSTAMP:20260419T163215
CREATED:20240203T193432Z
LAST-MODIFIED:20240203T193432Z
UID:39798-1707224400-1707325200@pesterzsebet.hu
SUMMARY:Általános iskolás fiú II. korcsoport kosárlabda bajnokság
DESCRIPTION:A mérkőzések időpontja és helyszíne: 2024. február 6-7. (kedd-szerda) 13:00 óra\, Budapest XX. Kerületi Hajós Alfréd Általános Iskola (1203. Budapest Lajtha László u. 5-7.).
URL:https://pesterzsebet.hu/esemeny/altalanos-iskolas-fiu-ii-korcsoport-kosarlabda-bajnoksag/
LOCATION:Hajós Alfréd Általános Iskola\, Lajtha László utca 5-7.\, Budapest\, 1203
CATEGORIES:Sport
ATTACH;FMTTYPE=image/jpeg:https://pesterzsebet.hu/wp-content/uploads/table-wood-play-floor-basketball-produce-1349120-pxhere.com_-scaled-e1706988793599.jpg
END:VEVENT
BEGIN:VEVENT
DTSTART;TZID=Europe/Budapest:20240122T130000
DTEND;TZID=Europe/Budapest:20240122T170000
DTSTAMP:20260419T163215
CREATED:20240112T145200Z
LAST-MODIFIED:20240112T180026Z
UID:39688-1705928400-1705942800@pesterzsebet.hu
SUMMARY:Diákolimpia általános iskolás lány III. korcsoport röplabda bajnokság
DESCRIPTION:A 2023/2024. tanévben a kerületi Diákolimpia általános iskolás lány III. korcsoport röplabda bajnokság rendezvényének időpontja 2024.  január 22. (hétfő) napja\, az esemény 13:00 órai kezdettel kerül megrendezésre.\n \nHelyszíne Hajós Alfréd Általános Iskola tornaterme (1203 Budapest Lajtha László u. 5-7.).
URL:https://pesterzsebet.hu/esemeny/diakolimpia-altalanos-iskolas-lany-iii-korcsoport-roplabda-bajnoksag/
LOCATION:XX. kerületi Hajós Alfréd Általános Iskola\, Lajtha lászló utca 5-7.\, Budapest\, 1203
CATEGORIES:Sport
ATTACH;FMTTYPE=image/jpeg:https://pesterzsebet.hu/wp-content/uploads/sport-play-train-young-hall-training-773717-pxhere.com-1-scaled-e1704437764144.jpg
END:VEVENT
BEGIN:VEVENT
DTSTART;TZID=Europe/Budapest:20240117T133000
DTEND;TZID=Europe/Budapest:20240117T173000
DTSTAMP:20260419T163215
CREATED:20240108T202326Z
LAST-MODIFIED:20240108T202326Z
UID:39632-1705498200-1705512600@pesterzsebet.hu
SUMMARY:Diákolimpia általános iskolás lány röplabda bajnokság Pesterzsébeten
DESCRIPTION:A 2023/2024. tanévben megrendezett Diákolimpia általános iskolás lány röplabda bajnokság versenyének helyszíne: 2024.  január 15. (hétfő) és 2024. január 17. (szerda) napja\, a versenyek 13:30 órai kezdettel kerülnek megrendezésre.\n \nHelyszíne Hajós Alfréd Általános Iskola tornaterme (1203 Budapest Lajtha László u. 5-7.).
URL:https://pesterzsebet.hu/esemeny/diakolimpia-altalanos-iskolas-lany-roplabda-bajnoksag-pesterzsebeten-2/
LOCATION:Hajós Alfréd Általános Iskola\, Lajtha László utca 5-7.\, Budapest\, 1203
CATEGORIES:Sport
ATTACH;FMTTYPE=image/jpeg:https://pesterzsebet.hu/wp-content/uploads/sport-play-train-young-hall-training-773717-pxhere.com-1-scaled-e1704437764144.jpg
END:VEVENT
BEGIN:VEVENT
DTSTART;TZID=Europe/Budapest:20240115T133000
DTEND;TZID=Europe/Budapest:20240115T173000
DTSTAMP:20260419T163215
CREATED:20240108T200132Z
LAST-MODIFIED:20240108T200132Z
UID:39630-1705325400-1705339800@pesterzsebet.hu
SUMMARY:Diákolimpia általános iskolás lány röplabda bajnokság Pesterzsébeten
DESCRIPTION:A 2023/2024. tanévben megrendezett Diákolimpia általános iskolás lány röplabda bajnokság versenyének helyszíne: 2024.  január 15. (hétfő) és 2024. január 17. (szerda) napja\, a versenyek 13:30 órai kezdettel kerülnek megrendezésre.\n \nHelyszíne Hajós Alfréd Általános Iskola tornaterme (1203 Budapest Lajtha László u. 5-7.).
URL:https://pesterzsebet.hu/esemeny/diakolimpia-altalanos-iskolas-lany-roplabda-bajnoksag-pesterzsebeten/
LOCATION:Hajós Alfréd Általános Iskola\, Lajtha László utca 5-7.\, Budapest\, 1203
CATEGORIES:Sport
ATTACH;FMTTYPE=image/jpeg:https://pesterzsebet.hu/wp-content/uploads/sport-play-train-young-hall-training-773717-pxhere.com-1-scaled-e1704437764144.jpg
END:VEVENT
BEGIN:VEVENT
DTSTART;TZID=Europe/Budapest:20240110T133000
DTEND;TZID=Europe/Budapest:20240111T190000
DTSTAMP:20260419T163215
CREATED:20240105T065707Z
LAST-MODIFIED:20240105T065707Z
UID:39555-1704893400-1704999600@pesterzsebet.hu
SUMMARY:Általános iskolás fiú röplabda bajnokság Pesterzsébeten
DESCRIPTION:A 2023/2024. tanév Diákolimpia első idei rendezvénye: az általános iskolás fiú röplabda bajnokság. \n  \nA verseny időpontjai 2024.  január 10. (szerda) és 2024. január 11. (csütörtök) napja\, az események 13:30 órai kezdettel kerülnek megrendezésre.
URL:https://pesterzsebet.hu/esemeny/altalanos-iskolas-fiu-roplabda-bajnoksag-pesterzsebeten/
LOCATION:Hajós Alfréd Általános Iskola\, Lajtha László utca 5-7.\, Budapest\, 1203
CATEGORIES:Sport
ATTACH;FMTTYPE=image/jpeg:https://pesterzsebet.hu/wp-content/uploads/sport-play-train-young-hall-training-773717-pxhere.com-1-scaled-e1704437764144.jpg
END:VEVENT
BEGIN:VEVENT
DTSTART;TZID=Europe/Budapest:20231122T140000
DTEND;TZID=Europe/Budapest:20231122T163000
DTSTAMP:20260419T163215
CREATED:20231025T193111Z
LAST-MODIFIED:20231025T193111Z
UID:38660-1700661600-1700670600@pesterzsebet.hu
SUMMARY:XX. kerületi középiskolás Partizánlabda Diákolimpia II.korcsoport
DESCRIPTION:A verseny helye\, ideje: XX. kerületi Nagy László Általános Iskola és Gimnázium (1203. Budapest\, János utca 4.) \nII. korcsoport 2023. november 22. (szerda) 14:00 óra
URL:https://pesterzsebet.hu/esemeny/xx-keruleti-kozepiskolas-partizanlabda-diakolimpia-ii-korcsoport/
LOCATION:XX. Kerületi Nagy László Általános Iskola és Gimnázium\, János utca 4.\, Budapest\, 1203
CATEGORIES:Sport
ATTACH;FMTTYPE=image/jpeg:https://pesterzsebet.hu/wp-content/uploads/sport-play-train-young-hall-training-773717-pxhere.com_-scaled-e1698262230621.jpg
END:VEVENT
BEGIN:VEVENT
DTSTART;TZID=Europe/Budapest:20231109T140000
DTEND;TZID=Europe/Budapest:20231109T153000
DTSTAMP:20260419T163215
CREATED:20231026T034526Z
LAST-MODIFIED:20231026T034526Z
UID:38664-1699538400-1699543800@pesterzsebet.hu
SUMMARY:XX. kerületi középiskolás Partizánlabda Diákolimpia III. korcsoport
DESCRIPTION:A verseny helye\, ideje: XX. kerületi Nagy László Általános Iskola és Gimnázium (1203. Budapest\, János utca 4.) \n  \n        III. korcsoport 2023. november 9. (csütörtök) 14:00 óra
URL:https://pesterzsebet.hu/esemeny/xx-keruleti-kozepiskolas-partizanlabda-diakolimpia-iii-korcsoport/
LOCATION:XX. Kerületi Nagy László Általános Iskola és Gimnázium\, János utca 4.\, Budapest\, 1203
CATEGORIES:Sport
ATTACH;FMTTYPE=image/jpeg:https://pesterzsebet.hu/wp-content/uploads/sport-play-train-young-hall-training-773717-pxhere.com_-scaled-e1698262230621.jpg
END:VEVENT
BEGIN:VEVENT
DTSTART;TZID=Europe/Budapest:20231109T140000
DTEND;TZID=Europe/Budapest:20231109T153000
DTSTAMP:20260419T163215
CREATED:20231025T184805Z
LAST-MODIFIED:20231025T184805Z
UID:38658-1699538400-1699543800@pesterzsebet.hu
SUMMARY:XX. kerületi középiskolás Floorball Diákolimpia IV. korcsoport
DESCRIPTION:IV. korcsoport 2023. november 9. (csütörtök) 14:00 óra fiú _ 14:30 óra lány \n 
URL:https://pesterzsebet.hu/esemeny/xx-keruleti-kozepiskolas-floorball-diakolimpia-iv-korcsoport/
LOCATION:XX. kerületi Hajós Alfréd Általános Iskola\, Lajtha lászló utca 5-7.\, Budapest\, 1203
CATEGORIES:Sport
ATTACH;FMTTYPE=image/jpeg:https://pesterzsebet.hu/wp-content/uploads/floor-club-hockey-competition-indoors-sports-926971-pxhere.com_-scaled-e1698180427175.jpg
END:VEVENT
BEGIN:VEVENT
DTSTART;TZID=Europe/Budapest:20231107T140000
DTEND;TZID=Europe/Budapest:20231107T163000
DTSTAMP:20260419T163215
CREATED:20231024T204802Z
LAST-MODIFIED:20231024T204802Z
UID:38649-1699365600-1699374600@pesterzsebet.hu
SUMMARY:XX. kerületi középiskolás Floorball Diákolimpia III. korcsoport
DESCRIPTION:A verseny helye\, ideje: XX. kerületi Hajós Alfréd Általános Iskola (1203. Budapest\, Lajtha László u.5-7.) \n                                      III. korcsoport 2023. november 7. (kedd) 14:00 óra fiú _ 15:00 óra lány
URL:https://pesterzsebet.hu/esemeny/xx-keruleti-kozepiskolas-floorball-diakolimpia-iii-korcsoport/
LOCATION:XX. kerületi Hajós Alfréd Általános Iskola\, Lajtha lászló utca 5-7.\, Budapest\, 1203
CATEGORIES:Sport
ATTACH;FMTTYPE=image/jpeg:https://pesterzsebet.hu/wp-content/uploads/floor-club-hockey-competition-indoors-sports-926971-pxhere.com_-scaled-e1698180427175.jpg
END:VEVENT
BEGIN:VEVENT
DTSTART;TZID=Europe/Budapest:20231026T140000
DTEND;TZID=Europe/Budapest:20231026T170000
DTSTAMP:20260419T163215
CREATED:20231011T192520Z
LAST-MODIFIED:20231011T192520Z
UID:38624-1698328800-1698339600@pesterzsebet.hu
SUMMARY:Diákolimpia asztalitenisz
DESCRIPTION:XX. kerületi középiskolás asztalitenisz Diákolimpia. \n  \nA verseny helye\, ideje: Nagy László Általános Iskola és Gimnázium tornaterme Budapest János u. 4.
URL:https://pesterzsebet.hu/esemeny/diakolimpia-asztalitenisz/
LOCATION:XX. Kerületi Nagy László Általános Iskola és Gimnázium\, János utca 4.\, Budapest\, 1203
CATEGORIES:Sport
ATTACH;FMTTYPE=image/jpeg:https://pesterzsebet.hu/wp-content/uploads/sport-food-red-gadget-object-glasses-475810-pxhere.com_-scaled-e1697052171215.jpg
END:VEVENT
END:VCALENDAR