BEGIN:VCALENDAR
VERSION:2.0
PRODID:-//Pesterzsébet Hivatalos oldala - ECPv6.15.20//NONSGML v1.0//EN
CALSCALE:GREGORIAN
METHOD:PUBLISH
X-ORIGINAL-URL:https://pesterzsebet.hu
X-WR-CALDESC:Események Pesterzsébet Hivatalos oldala
REFRESH-INTERVAL;VALUE=DURATION:PT1H
X-Robots-Tag:noindex
X-PUBLISHED-TTL:PT1H
BEGIN:VTIMEZONE
TZID:Europe/Budapest
BEGIN:DAYLIGHT
TZOFFSETFROM:+0100
TZOFFSETTO:+0200
TZNAME:CEST
DTSTART:20220327T010000
END:DAYLIGHT
BEGIN:STANDARD
TZOFFSETFROM:+0200
TZOFFSETTO:+0100
TZNAME:CET
DTSTART:20221030T010000
END:STANDARD
BEGIN:DAYLIGHT
TZOFFSETFROM:+0100
TZOFFSETTO:+0200
TZNAME:CEST
DTSTART:20230326T010000
END:DAYLIGHT
BEGIN:STANDARD
TZOFFSETFROM:+0200
TZOFFSETTO:+0100
TZNAME:CET
DTSTART:20231029T010000
END:STANDARD
BEGIN:DAYLIGHT
TZOFFSETFROM:+0100
TZOFFSETTO:+0200
TZNAME:CEST
DTSTART:20240331T010000
END:DAYLIGHT
BEGIN:STANDARD
TZOFFSETFROM:+0200
TZOFFSETTO:+0100
TZNAME:CET
DTSTART:20241027T010000
END:STANDARD
END:VTIMEZONE
BEGIN:VEVENT
DTSTART;TZID=Europe/Budapest:20231215T103000
DTEND;TZID=Europe/Budapest:20231215T113000
DTSTAMP:20260423T173143
CREATED:20231116T000135Z
LAST-MODIFIED:20231116T000135Z
UID:39120-1702636200-1702639800@pesterzsebet.hu
SUMMARY:Diótörő hip-hop táncszínházi előadás
DESCRIPTION:Csajkovszkij művének újszerű\, modern zenei átdolgozása\, formabontó hip-hop zenékkel kiegészítve\, látványos koreográfiákkal! \nÉlménydús karácsonyi szórakozás minden korosztálynak! \nA műsor előadóművészei: a PMS Dance Táncszínház felnőtt társulata és gyermek szereplői \njegyinfo: pmsdance.hu
URL:https://pesterzsebet.hu/esemeny/diotoro-hip-hop-tancszinhazi-eloadas/
LOCATION:Csili Művelődési Központ\, Nagy Győry István u. 4-6.\, Budapest\, 1203\, Hungary
CATEGORIES:Színház
ATTACH;FMTTYPE=image/png:https://pesterzsebet.hu/wp-content/uploads/Diotoro_plakat_A3_FINAL_Csili-e1700092848168.png
END:VEVENT
BEGIN:VEVENT
DTSTART;TZID=Europe/Budapest:20231215T140000
DTEND;TZID=Europe/Budapest:20231215T153000
DTSTAMP:20260423T173143
CREATED:20231116T000711Z
LAST-MODIFIED:20231116T000711Z
UID:39123-1702648800-1702654200@pesterzsebet.hu
SUMMARY:Diótörő hip-hop táncszínházi előadás
DESCRIPTION:Csajkovszkij művének újszerű\, modern zenei átdolgozása\, formabontó hip-hop zenékkel kiegészítve\, látványos koreográfiákkal! \nÉlménydús karácsonyi szórakozás minden korosztálynak! \nA műsor előadóművészei: a PMS Dance Táncszínház felnőtt társulata és gyermek szereplői \njegyinfo: pmsdance.hu
URL:https://pesterzsebet.hu/esemeny/diotoro-hip-hop-tancszinhazi-eloadas-2/
LOCATION:Pest megye
CATEGORIES:Színház
ATTACH;FMTTYPE=image/png:https://pesterzsebet.hu/wp-content/uploads/Diotoro_plakat_A3_FINAL_Csili-e1700092848168.png
END:VEVENT
END:VCALENDAR