BEGIN:VCALENDAR
VERSION:2.0
PRODID:-//Pesterzsébet Hivatalos oldala - ECPv6.15.20//NONSGML v1.0//EN
CALSCALE:GREGORIAN
METHOD:PUBLISH
X-WR-CALNAME:Pesterzsébet Hivatalos oldala
X-ORIGINAL-URL:https://pesterzsebet.hu
X-WR-CALDESC:Események Pesterzsébet Hivatalos oldala
REFRESH-INTERVAL;VALUE=DURATION:PT1H
X-Robots-Tag:noindex
X-PUBLISHED-TTL:PT1H
BEGIN:VTIMEZONE
TZID:Europe/Budapest
BEGIN:DAYLIGHT
TZOFFSETFROM:+0100
TZOFFSETTO:+0200
TZNAME:CEST
DTSTART:20220327T010000
END:DAYLIGHT
BEGIN:STANDARD
TZOFFSETFROM:+0200
TZOFFSETTO:+0100
TZNAME:CET
DTSTART:20221030T010000
END:STANDARD
BEGIN:DAYLIGHT
TZOFFSETFROM:+0100
TZOFFSETTO:+0200
TZNAME:CEST
DTSTART:20230326T010000
END:DAYLIGHT
BEGIN:STANDARD
TZOFFSETFROM:+0200
TZOFFSETTO:+0100
TZNAME:CET
DTSTART:20231029T010000
END:STANDARD
BEGIN:DAYLIGHT
TZOFFSETFROM:+0100
TZOFFSETTO:+0200
TZNAME:CEST
DTSTART:20240331T010000
END:DAYLIGHT
BEGIN:STANDARD
TZOFFSETFROM:+0200
TZOFFSETTO:+0100
TZNAME:CET
DTSTART:20241027T010000
END:STANDARD
END:VTIMEZONE
BEGIN:VEVENT
DTSTART;TZID=Europe/Budapest:20230624T180000
DTEND;TZID=Europe/Budapest:20230624T200000
DTSTAMP:20260423T224143
CREATED:20230510T043956Z
LAST-MODIFIED:20230510T043956Z
UID:37290-1687629600-1687636800@pesterzsebet.hu
SUMMARY:A zene az kell Rock nagyi
DESCRIPTION:A ROCK AND ROLL KIRÁLYNŐJE\nTöretlen siker\, őstehetség\, kikezdhetetlen méltóság\, ikon\, nagyasszony\, rocknagyi. Nem lehet más\, csak Tina Turner! A fenti mondat minden szava igaz\, bár az igazságnak csak az egyik fele. De mi van a másik oldalon? Egy sors\, ami többször táplálkozott sárból\, mint fényből… Egy asszony\, akinek az ars poetikája\, hogy minél mélyebbre nyúlik a mocsár sarába gyökerével\, annál szebb a lótusz virága. Egy nő\, aki mindenből feláll. Újrakezd. Győz. S közben a hangjával áténekel egy egész univerzumot.\nA Turay Ida Színházban 2019 óta sikerrel játszott Rocknagyi című előadásban Fehér Adrienn személyesíti meg Tina Turnert – az előadás nyomán készült esttel készül a Nyáresti koncertsorozatunk első állomására.\nFehér Adrienn EMeRTon díjas énekes- és színésznő ezen az estén Neumann Balázs\, a kitűnő jazz-zongorista\, és testvére\, Fehér István kíséretében adja elő a jól ismert dalokat\, valamint saját szerzeményeiket.
URL:https://pesterzsebet.hu/esemeny/a-zene-az-kell-rock-nagyi/
LOCATION:Csili Udvar\, Baross utca 55.\, Budapest\, 1201
CATEGORIES:Koncert
ATTACH;FMTTYPE=image/png:https://pesterzsebet.hu/wp-content/uploads/0624_zeneazkell_web-e1683693547682.png
END:VEVENT
END:VCALENDAR