BEGIN:VCALENDAR
VERSION:2.0
PRODID:-//Pesterzsébet Hivatalos oldala - ECPv6.15.20//NONSGML v1.0//EN
CALSCALE:GREGORIAN
METHOD:PUBLISH
X-WR-CALNAME:Pesterzsébet Hivatalos oldala
X-ORIGINAL-URL:https://pesterzsebet.hu
X-WR-CALDESC:Események Pesterzsébet Hivatalos oldala
REFRESH-INTERVAL;VALUE=DURATION:PT1H
X-Robots-Tag:noindex
X-PUBLISHED-TTL:PT1H
BEGIN:VTIMEZONE
TZID:Europe/Budapest
BEGIN:DAYLIGHT
TZOFFSETFROM:+0100
TZOFFSETTO:+0200
TZNAME:CEST
DTSTART:20230326T010000
END:DAYLIGHT
BEGIN:STANDARD
TZOFFSETFROM:+0200
TZOFFSETTO:+0100
TZNAME:CET
DTSTART:20231029T010000
END:STANDARD
BEGIN:DAYLIGHT
TZOFFSETFROM:+0100
TZOFFSETTO:+0200
TZNAME:CEST
DTSTART:20240331T010000
END:DAYLIGHT
BEGIN:STANDARD
TZOFFSETFROM:+0200
TZOFFSETTO:+0100
TZNAME:CET
DTSTART:20241027T010000
END:STANDARD
BEGIN:DAYLIGHT
TZOFFSETFROM:+0100
TZOFFSETTO:+0200
TZNAME:CEST
DTSTART:20250330T010000
END:DAYLIGHT
BEGIN:STANDARD
TZOFFSETFROM:+0200
TZOFFSETTO:+0100
TZNAME:CET
DTSTART:20251026T010000
END:STANDARD
END:VTIMEZONE
BEGIN:VEVENT
DTSTART;TZID=Europe/Budapest:20240505T150000
DTEND;TZID=Europe/Budapest:20240505T170000
DTSTAMP:20260419T151643
CREATED:20240502T195651Z
LAST-MODIFIED:20240502T195651Z
UID:40696-1714921200-1714928400@pesterzsebet.hu
SUMMARY:Gitárterápia – Benkő Zsolt Klubja
DESCRIPTION:Összejövetel gitárosoknak\, újrakezdőknek\, még nem gitározóknak\, zenerajongóknak és bárkinek akit érdekel a zene\, a zenélés!\nEz egy olyan kurzus\, ahol mindenki jól érezheti magát\, kaphat információt a zenéről\, a zene hallgatásáról és gyakorlati tanácsokat a gitározáshoz. Az otthoni szoba-gitározásnál több élményt nyújthat egy közösségben való részvétel\, a hasznos tanácsok révén pedig gyorsabb fejlődés is elérhető. Természetesen az otthoni gyakorlást semmi nem helyettesítheti\, de kedvet\, lendületet adhat hozzá egy ilyen összejövetel!\nA kurzus (időtartama kb. 2 óra) több szakaszból áll:\n– ismerkedés\, a jelentkezők céljainak\, szintjének felmérése a zenében\n– általános zenei ismeretek\, játékos gyakorlatokkal\n– konkrét dal választása és annak tanulása\n– ajánlat otthoni gyakorláshoz az internetről\n– örömzenélés (az előadó vezetésével)\nTermészetesen a személyes tréning mélysége függ a jelentkezők számától\, elsődlegesen a közösségi zenélés élménye\, annak tudatos megélése lenne a fontos\, és ez nem függ a zenei tudás mértékétől teljes egészében. Technikai tanácsokat\, egyéni kérdéseikre választ mindenki kap.\nA rendszerességnek (2 hetente vasárnap 15:00-17:00 óráig) a tétje egy szezonvégi fellépés lenne\, ahol a feltehetően nem homogén összetételű csoport egy 2-3 számos produkciót mutatna be.\nA legoptimálisabb létszám 7-15 fő\, de mivel a kurzus nyitott\, jöhetnek érdeklődők\, kísérők\, bárki aki csak esetleg most tervezi a hangszeres játékot vagy érdekli a zene felépítése\, szeretne többet tudni róla!\nÉletkorban a 12 évnél idősebbeknek ajánlott\, felső korhatár nincs!\nAki tartja a kurzust: Benkő Zsolt – bluesgitáros\, előadó (a nyolcvanas évek második felétől volt látható különböző zenekarokban\, hazai és nemzetközi klubok\, fesztiválok rendszeres fellépője\, 40 éves tapasztalattal\, a kilencvenes évek eleje óta tanít is\, jelenleg is tagja a Hangszert a Kézbe- országos ismeretterjesztő zenei eseménysorozatnak\, gitáros előadóként. Évek óta tart blues-történeti előadásokat is\, miközben aktív zenekari tag több zenekarban is.)\nA program ingyenes.
URL:https://pesterzsebet.hu/esemeny/gitarterapia-benko-zsolt-klubja/
LOCATION:Csili Művelődési Központ “B” épület\, Baross u. 55.\, Budapest\, Pest megye\, 1201\, Magyarország
CATEGORIES:Kulturális esemény
ATTACH;FMTTYPE=image/png:https://pesterzsebet.hu/wp-content/uploads/gitarterapia-alt.png
END:VEVENT
END:VCALENDAR