BEGIN:VCALENDAR
VERSION:2.0
PRODID:-//Pesterzsébet Hivatalos oldala - ECPv6.15.20//NONSGML v1.0//EN
CALSCALE:GREGORIAN
METHOD:PUBLISH
X-WR-CALNAME:Pesterzsébet Hivatalos oldala
X-ORIGINAL-URL:https://pesterzsebet.hu
X-WR-CALDESC:Események Pesterzsébet Hivatalos oldala
REFRESH-INTERVAL;VALUE=DURATION:PT1H
X-Robots-Tag:noindex
X-PUBLISHED-TTL:PT1H
BEGIN:VTIMEZONE
TZID:Europe/Budapest
BEGIN:DAYLIGHT
TZOFFSETFROM:+0100
TZOFFSETTO:+0200
TZNAME:CEST
DTSTART:20210328T010000
END:DAYLIGHT
BEGIN:STANDARD
TZOFFSETFROM:+0200
TZOFFSETTO:+0100
TZNAME:CET
DTSTART:20211031T010000
END:STANDARD
BEGIN:DAYLIGHT
TZOFFSETFROM:+0100
TZOFFSETTO:+0200
TZNAME:CEST
DTSTART:20220327T010000
END:DAYLIGHT
BEGIN:STANDARD
TZOFFSETFROM:+0200
TZOFFSETTO:+0100
TZNAME:CET
DTSTART:20221030T010000
END:STANDARD
BEGIN:DAYLIGHT
TZOFFSETFROM:+0100
TZOFFSETTO:+0200
TZNAME:CEST
DTSTART:20230326T010000
END:DAYLIGHT
BEGIN:STANDARD
TZOFFSETFROM:+0200
TZOFFSETTO:+0100
TZNAME:CET
DTSTART:20231029T010000
END:STANDARD
END:VTIMEZONE
BEGIN:VEVENT
DTSTART;TZID=Europe/Budapest:20221108T090000
DTEND;TZID=Europe/Budapest:20221108T100000
DTSTAMP:20260422T225855
CREATED:20221026T040627Z
LAST-MODIFIED:20221026T040627Z
UID:34872-1667898000-1667901600@pesterzsebet.hu
SUMMARY:Brumi és a téli álom (Aprók színháza)
DESCRIPTION:Brumi és a téli álom – zenés bábjáték\n– Fabula Bábszínház előadása – \n\nA történet helyszíne egy medvebarlang. A kis bocsok nem akarnak téli álmot aludni\, mert azt unalmasnak tartják. Aztán elindulnak a mesés kalandok. Ez már a macik téli álma\, vagy még a valóság? Ez rejtve marad. Egy kedves kis medvés mese azonban kikerekedik Brumiról és Barniról\, és a szemünk láttára kel életre a barlang rejtekéből. A klasszikus bábjátékok egyik legkedvesebb meséje látványos bábokkal és fülbemászó gyermekdalokkal.
URL:https://pesterzsebet.hu/esemeny/brumi-es-a-teli-alom-aprok-szinhaza/
LOCATION:Csili Művelődési Központ – Bubik István színházterem\, Nagy Győry István u. 4-6.\, Budapest\, Pest megye\, 1201\, Magyarország
CATEGORIES:Színház
END:VEVENT
END:VCALENDAR