BEGIN:VCALENDAR
VERSION:2.0
PRODID:-//Pesterzsébet Hivatalos oldala - ECPv6.15.20//NONSGML v1.0//EN
CALSCALE:GREGORIAN
METHOD:PUBLISH
X-ORIGINAL-URL:https://pesterzsebet.hu
X-WR-CALDESC:Események Pesterzsébet Hivatalos oldala
REFRESH-INTERVAL;VALUE=DURATION:PT1H
X-Robots-Tag:noindex
X-PUBLISHED-TTL:PT1H
BEGIN:VTIMEZONE
TZID:Europe/Budapest
BEGIN:DAYLIGHT
TZOFFSETFROM:+0100
TZOFFSETTO:+0200
TZNAME:CEST
DTSTART:20210328T010000
END:DAYLIGHT
BEGIN:STANDARD
TZOFFSETFROM:+0200
TZOFFSETTO:+0100
TZNAME:CET
DTSTART:20211031T010000
END:STANDARD
BEGIN:DAYLIGHT
TZOFFSETFROM:+0100
TZOFFSETTO:+0200
TZNAME:CEST
DTSTART:20220327T010000
END:DAYLIGHT
BEGIN:STANDARD
TZOFFSETFROM:+0200
TZOFFSETTO:+0100
TZNAME:CET
DTSTART:20221030T010000
END:STANDARD
BEGIN:DAYLIGHT
TZOFFSETFROM:+0100
TZOFFSETTO:+0200
TZNAME:CEST
DTSTART:20230326T010000
END:DAYLIGHT
BEGIN:STANDARD
TZOFFSETFROM:+0200
TZOFFSETTO:+0100
TZNAME:CET
DTSTART:20231029T010000
END:STANDARD
END:VTIMEZONE
BEGIN:VEVENT
DTSTART;TZID=Europe/Budapest:20220113T140000
DTEND;TZID=Europe/Budapest:20220113T150000
DTSTAMP:20260425T125546
CREATED:20220103T125703Z
LAST-MODIFIED:20220103T125703Z
UID:26974-1642082400-1642086000@pesterzsebet.hu
SUMMARY:Világszép Nádszálkisasszony – zenés mesejáték
DESCRIPTION:GYERMEKSZÍNHÁZ c. sorozat előadása.\n\nA Nektár Színház feldolgozásában Benedek Elek meséje nyomán\, a magyar népmese irodalom egyik klasszikus gyöngyszeme.\nVajon megtalálja-e a királyfi a Világszép Nádszálkisasszonyt\, akit egy boszorkány őriz nádszálba zárva? S ha megtalálja\, vajon ki tudja-e szabadítani? A mesejáték őrzi a népmesék nyelvi világát\, a benne felcsendülő dalok a hagyományos népzenét – mai hangszerelésben.\n\nTekintsék meg az előzetest!\nhttps://www.youtube.com/watch?v=d24aczz_YAU
URL:https://pesterzsebet.hu/esemeny/vilagszep-nadszalkisasszony-zenes-mesejatek/
LOCATION:Pest megye
CATEGORIES:Színház
END:VEVENT
END:VCALENDAR