BEGIN:VCALENDAR
VERSION:2.0
PRODID:-//Pesterzsébet Hivatalos oldala - ECPv6.15.20//NONSGML v1.0//EN
CALSCALE:GREGORIAN
METHOD:PUBLISH
X-ORIGINAL-URL:https://pesterzsebet.hu
X-WR-CALDESC:Események Pesterzsébet Hivatalos oldala
REFRESH-INTERVAL;VALUE=DURATION:PT1H
X-Robots-Tag:noindex
X-PUBLISHED-TTL:PT1H
BEGIN:VTIMEZONE
TZID:Europe/Budapest
BEGIN:DAYLIGHT
TZOFFSETFROM:+0100
TZOFFSETTO:+0200
TZNAME:CEST
DTSTART:20210328T010000
END:DAYLIGHT
BEGIN:STANDARD
TZOFFSETFROM:+0200
TZOFFSETTO:+0100
TZNAME:CET
DTSTART:20211031T010000
END:STANDARD
BEGIN:DAYLIGHT
TZOFFSETFROM:+0100
TZOFFSETTO:+0200
TZNAME:CEST
DTSTART:20220327T010000
END:DAYLIGHT
BEGIN:STANDARD
TZOFFSETFROM:+0200
TZOFFSETTO:+0100
TZNAME:CET
DTSTART:20221030T010000
END:STANDARD
BEGIN:DAYLIGHT
TZOFFSETFROM:+0100
TZOFFSETTO:+0200
TZNAME:CEST
DTSTART:20230326T010000
END:DAYLIGHT
BEGIN:STANDARD
TZOFFSETFROM:+0200
TZOFFSETTO:+0100
TZNAME:CET
DTSTART:20231029T010000
END:STANDARD
END:VTIMEZONE
BEGIN:VEVENT
DTSTART;TZID=Europe/Budapest:20221124T140000
DTEND;TZID=Europe/Budapest:20221124T150000
DTSTAMP:20260424T184707
CREATED:20221026T040836Z
LAST-MODIFIED:20221026T040836Z
UID:34874-1669298400-1669302000@pesterzsebet.hu
SUMMARY:A nagy Ho-Ho-Horgász (Gyermekszínház)
DESCRIPTION:– Szabad Ötletek Színház előadása – \nA népszerű rajzfilm-sorozat zenés\, színpadi változatában a pecázás megszállott szerelmese\, a Nagy Ho-ho-horgász – beosztotja a Kukac segítségével – mindent elkövet a várva várt nagy fogás elérésére. Újabb és újabb ötleteket eszelnek ki\, de végül a zsákmány és a sors mindig túljár az eszükön. Az előadást az eredeti Csukás István dalszövegek\, a zene\, a díszlet és a jelmez is színesítik.
URL:https://pesterzsebet.hu/esemeny/a-nagy-ho-ho-horgasz-gyermekszinhaz/
LOCATION:Csili Művelődési Központ – Bubik István színházterem\, Nagy Győry István u. 4-6.\, Budapest\, Pest megye\, 1201\, Magyarország
CATEGORIES:Színház
END:VEVENT
END:VCALENDAR