BEGIN:VCALENDAR
VERSION:2.0
PRODID:-//Pesterzsébet Hivatalos oldala - ECPv6.15.20//NONSGML v1.0//EN
CALSCALE:GREGORIAN
METHOD:PUBLISH
X-WR-CALNAME:Pesterzsébet Hivatalos oldala
X-ORIGINAL-URL:https://pesterzsebet.hu
X-WR-CALDESC:Események Pesterzsébet Hivatalos oldala
REFRESH-INTERVAL;VALUE=DURATION:PT1H
X-Robots-Tag:noindex
X-PUBLISHED-TTL:PT1H
BEGIN:VTIMEZONE
TZID:Europe/Budapest
BEGIN:DAYLIGHT
TZOFFSETFROM:+0100
TZOFFSETTO:+0200
TZNAME:CEST
DTSTART:20210328T010000
END:DAYLIGHT
BEGIN:STANDARD
TZOFFSETFROM:+0200
TZOFFSETTO:+0100
TZNAME:CET
DTSTART:20211031T010000
END:STANDARD
BEGIN:DAYLIGHT
TZOFFSETFROM:+0100
TZOFFSETTO:+0200
TZNAME:CEST
DTSTART:20220327T010000
END:DAYLIGHT
BEGIN:STANDARD
TZOFFSETFROM:+0200
TZOFFSETTO:+0100
TZNAME:CET
DTSTART:20221030T010000
END:STANDARD
BEGIN:DAYLIGHT
TZOFFSETFROM:+0100
TZOFFSETTO:+0200
TZNAME:CEST
DTSTART:20230326T010000
END:DAYLIGHT
BEGIN:STANDARD
TZOFFSETFROM:+0200
TZOFFSETTO:+0100
TZNAME:CET
DTSTART:20231029T010000
END:STANDARD
END:VTIMEZONE
BEGIN:VEVENT
DTSTART;TZID=Europe/Budapest:20220722T170000
DTEND;TZID=Europe/Budapest:20220722T190000
DTSTAMP:20260419T202810
CREATED:20220706T122537Z
LAST-MODIFIED:20220706T122537Z
UID:33944-1658509200-1658516400@pesterzsebet.hu
SUMMARY:Bóbita Band és a Papa Jazz Seven
DESCRIPTION:
URL:https://pesterzsebet.hu/esemeny/bobita-band-es-a-papa-jazz-seven/
LOCATION:Kosuti\, Kossuth Lajos tér 1.\, Kossuth Lajos u. 1.\, Budapest\, Pest megye\, 1201\, Magyarország
CATEGORIES:Koncert
END:VEVENT
BEGIN:VEVENT
DTSTART;TZID=Europe/Budapest:20220625T180000
DTEND;TZID=Europe/Budapest:20220625T200000
DTSTAMP:20260419T202810
CREATED:20220603T193044Z
LAST-MODIFIED:20220603T193044Z
UID:33682-1656180000-1656187200@pesterzsebet.hu
SUMMARY:Kedvenc magyar slágereink
DESCRIPTION:Szőke Nikoletta montreux-i versenygyőztes\, Junior Prima díjas előadó\, az ország egyik legnépszerűbb jazzénekesnője és zenésztársa az ország egyik legnépszerűbb jazzgitárosa\, Gyárfás István
URL:https://pesterzsebet.hu/esemeny/kedvenc-magyar-slagereink/
LOCATION:Csili Művelődési Központ – Kert\, Nagy Győry István u. 4-6.\, Budapest\, Pest megye\, 1201\, Magyarország
CATEGORIES:Koncert
END:VEVENT
END:VCALENDAR