BEGIN:VCALENDAR
VERSION:2.0
PRODID:-//Pesterzsébet Hivatalos oldala - ECPv6.15.20//NONSGML v1.0//EN
CALSCALE:GREGORIAN
METHOD:PUBLISH
X-WR-CALNAME:Pesterzsébet Hivatalos oldala
X-ORIGINAL-URL:https://pesterzsebet.hu
X-WR-CALDESC:Események Pesterzsébet Hivatalos oldala
REFRESH-INTERVAL;VALUE=DURATION:PT1H
X-Robots-Tag:noindex
X-PUBLISHED-TTL:PT1H
BEGIN:VTIMEZONE
TZID:Europe/Budapest
BEGIN:DAYLIGHT
TZOFFSETFROM:+0100
TZOFFSETTO:+0200
TZNAME:CEST
DTSTART:20220327T010000
END:DAYLIGHT
BEGIN:STANDARD
TZOFFSETFROM:+0200
TZOFFSETTO:+0100
TZNAME:CET
DTSTART:20221030T010000
END:STANDARD
BEGIN:DAYLIGHT
TZOFFSETFROM:+0100
TZOFFSETTO:+0200
TZNAME:CEST
DTSTART:20230326T010000
END:DAYLIGHT
BEGIN:STANDARD
TZOFFSETFROM:+0200
TZOFFSETTO:+0100
TZNAME:CET
DTSTART:20231029T010000
END:STANDARD
BEGIN:DAYLIGHT
TZOFFSETFROM:+0100
TZOFFSETTO:+0200
TZNAME:CEST
DTSTART:20240331T010000
END:DAYLIGHT
BEGIN:STANDARD
TZOFFSETFROM:+0200
TZOFFSETTO:+0100
TZNAME:CET
DTSTART:20241027T010000
END:STANDARD
END:VTIMEZONE
BEGIN:VEVENT
DTSTART;VALUE=DATE:20230512
DTEND;VALUE=DATE:20230515
DTSTAMP:20260424T122554
CREATED:20230223T094247Z
LAST-MODIFIED:20230319T102058Z
UID:36071-1683849600-1684108799@pesterzsebet.hu
SUMMARY:Okinawai Napok Pesterzsébeten
DESCRIPTION:A rendezvényen okinawai karate-do szemináriumok lesznek autentikus nagymesterekkel \nRésztvevők: \nHanshi Yoshio Kuba 10. Dan (Goju-Ryu) az International Okinawa Karate-Do Kenpo-Kai főinstruktora \nHanshi Hirokuni Yamashiro 9. Dan (Uechi-Ryu) Okinawa Karate- Do Uechi-Ryu Yamashiro Dojo főinstruktora \nSensei Takarhiro Shinjo 8. Dan (Tomari-Te) Okinawa Karate-Do Kenryu Doshikai elnöke \nSenesei Takeru Shinjo 5. Dan (WKF Kata) Okinawa Karate- Do Kenryu Doshikai főinstruktora \nSensei Fischer Mihály 4. Dan (WKF Kumite) Magyar válogatott edzője\, tanítványa Hárspataki Gábor III. helyezést ért el a Tokioi Olimpián kumitében \nA rendezvény szervezője a pesterzsébeti Sensei Harsányi László 6. Dan Oinawa Karate-Do Kenpo-Kai európai képviselője \nsakura-events.com
URL:https://pesterzsebet.hu/esemeny/okinawai-napok-pesterzsebeten/
LOCATION:BGSZ Pesterzsébeti Technikum\, Vörösmarty u. 30\,\, Budapest\, 1201
CATEGORIES:Sport
ATTACH;FMTTYPE=image/jpeg:https://pesterzsebet.hu/wp-content/uploads/kuba-hanshi.jpg
END:VEVENT
END:VCALENDAR