BEGIN:VCALENDAR
VERSION:2.0
PRODID:-//Pesterzsébet Hivatalos oldala - ECPv6.15.20//NONSGML v1.0//EN
CALSCALE:GREGORIAN
METHOD:PUBLISH
X-WR-CALNAME:Pesterzsébet Hivatalos oldala
X-ORIGINAL-URL:https://pesterzsebet.hu
X-WR-CALDESC:Események Pesterzsébet Hivatalos oldala
REFRESH-INTERVAL;VALUE=DURATION:PT1H
X-Robots-Tag:noindex
X-PUBLISHED-TTL:PT1H
BEGIN:VTIMEZONE
TZID:Europe/Budapest
BEGIN:DAYLIGHT
TZOFFSETFROM:+0100
TZOFFSETTO:+0200
TZNAME:CEST
DTSTART:20220327T010000
END:DAYLIGHT
BEGIN:STANDARD
TZOFFSETFROM:+0200
TZOFFSETTO:+0100
TZNAME:CET
DTSTART:20221030T010000
END:STANDARD
BEGIN:DAYLIGHT
TZOFFSETFROM:+0100
TZOFFSETTO:+0200
TZNAME:CEST
DTSTART:20230326T010000
END:DAYLIGHT
BEGIN:STANDARD
TZOFFSETFROM:+0200
TZOFFSETTO:+0100
TZNAME:CET
DTSTART:20231029T010000
END:STANDARD
BEGIN:DAYLIGHT
TZOFFSETFROM:+0100
TZOFFSETTO:+0200
TZNAME:CEST
DTSTART:20240331T010000
END:DAYLIGHT
BEGIN:STANDARD
TZOFFSETFROM:+0200
TZOFFSETTO:+0100
TZNAME:CET
DTSTART:20241027T010000
END:STANDARD
END:VTIMEZONE
BEGIN:VEVENT
DTSTART;TZID=Europe/Budapest:20231116T170000
DTEND;TZID=Europe/Budapest:20231116T180000
DTSTAMP:20260423T190926
CREATED:20231105T063316Z
LAST-MODIFIED:20231105T063316Z
UID:39010-1700154000-1700157600@pesterzsebet.hu
SUMMARY:“Ki a szabadba!” előadás és könyvbemutató
DESCRIPTION:Az Erzsébet Napok keretében Hegyes  Katalin előadására várunk minden kedves érdeklődőt 2023. november 16-án\, csütörtökön 17 órakor\, a Bíró Mihály utcai Szabó Ervin Könyvtárba!\nA Ki a szabadba! című könyvön alapuló előadás több szempontból mutatja be a tanösvényeket\, melyek az egészségmegőrzés és a környezetvédelem szempontjából is fontos szerepet játszanak. A tanösvények egy-egy hely\, környék természeti\, geológiai vagy kultúrtörténeti látványosságait mutatják be táblákon vagy applikációban\, de vannak mese-\, gasztro- vagy kardiotanösvények is. A kalauz 130 tanösvényt mutat be Budapesten és tőle 1-1\,5 órányi távolságra\, az előadás során\n– megismerhetik a tanösvények sokszínűségét\,\n– számos ötletet kaphatnak egy hétvégi vagy egy vasárnap délelőtti kiránduláshoz\, pl. megtudhatják\, hova menjenek kisgyerekekkel\, vagy medvehagymát gyűjteni\,\n– milyen túrák vannak a környéken.\nA túrákhoz remek sztorik kapcsolódnak\, megtudhatják\, mi állt a világ legelső tanösvény tábláján\, miért sereglettek a leányfalusiak délutánonként a Dunán Pestről hazaérkező kofahajókhoz\, vagy ki volt az utolsó nógrádi betyár…\nHelyszín: Bíró Mihály utcai Szabó Ervin Könyvtár\nA belépés ingyenes.
URL:https://pesterzsebet.hu/esemeny/ki-a-szabadba-eloadas-es-konyvbemutato/
LOCATION:Pesterzsébeti Szabó Ervin Könyvtár\, Bíró Mihály utca 7.\, Budapest\, 1203
CATEGORIES:Kulturális esemény
ATTACH;FMTTYPE=image/png:https://pesterzsebet.hu/wp-content/uploads/ki-a-szabadba-e1699165945242.png
END:VEVENT
BEGIN:VEVENT
DTSTART;TZID=Europe/Budapest:20231122T170000
DTEND;TZID=Europe/Budapest:20231122T180000
DTSTAMP:20260423T190926
CREATED:20231105T062446Z
LAST-MODIFIED:20231105T062446Z
UID:39001-1700672400-1700676000@pesterzsebet.hu
SUMMARY:Biztonságban a fedélzeten könyvbemutató\, közönségtalálkozó
DESCRIPTION:Veréczi Frick Zsuzsa három interjúkötetet is írt már régi Malévos kollégákkal. Kapitányok\, légiutaskísérők\, műszaki személyzet vall könyveiben az itt töltött évekről.\n2023. november 22-én\, szerdán 17 órakor várunk minden kedves érdeklődőt a beszélgetésre!\nMeghívott vendég Háy György Boeing 767-es kapitány\, repülésbiztonsági szakértő\,  baleseti kivizsgáló.\nBátran lehet tőle kérdezni mind repüléstechnikai mind biztonsági kérdésekről\, repülőbalesetekről\, katasztrófákról. Amiről ő nem tud\, az nem is történt meg.\nTovábbi részletek a Könyvtár weboldalán: https://fszek.hu/Entities/93/Events/2002biztonsagban-a-fedelzeten\nHelyszín: Bíró Mihály utcai Szabó Ervin Könyvtár\nA belépés ingyenes.
URL:https://pesterzsebet.hu/esemeny/biztonsagban-a-fedelzeten-konyvbemutato-kozonsegtalalkozo/
LOCATION:Pesterzsébeti Szabó Ervin Könyvtár\, Bíró Mihály utca 7.\, Budapest\, 1203
CATEGORIES:Kulturális esemény
ATTACH;FMTTYPE=image/png:https://pesterzsebet.hu/wp-content/uploads/malev.png
END:VEVENT
BEGIN:VEVENT
DTSTART;TZID=Europe/Budapest:20231123T170000
DTEND;TZID=Europe/Budapest:20231123T180000
DTSTAMP:20260423T190926
CREATED:20231104T211255Z
LAST-MODIFIED:20231104T211255Z
UID:38992-1700758800-1700762400@pesterzsebet.hu
SUMMARY:Rögtön jövök könyvbemutató
DESCRIPTION:Könyvbemutató meditációval\, sámándobbal és élő bejelentkezéssel Mexikóból\nLia Pelars (Szegedi Szilvia): Rögtön jövök – elzarándokoltam című\, első könyvének bemutatója.\nA két zarándok\nAz egyik Mexikóban élt\, a másik Magyarországon. Mindkettő úgy érezte\, hogy valami megmagyarázhatatlan okból Spanyolországba kell mennie és megtenni az El Caminót. Ott találkoztak\, még csak egymás szavát sem értették az elején. Talán emiatt mertek összeházasodni.\nAz Univerzum néha megvicceli az embereket\, vagy csak részei vagyunk egy nagy történetnek. Hogy melyik a mi történetünk\, arra ráérzünk a szívünket követve.\nDe erről egy egész könyv szól\, olvassátok el\, szeretettel íródott.\n„Mert ahol a világ vége van\, ott kezdődik minden”\nAz El Camino zarándoklat\nHelyszín: Csili Könyvtár (Nagy Győry István utca 4-6.)
URL:https://pesterzsebet.hu/esemeny/rogton-jovok-konyvbemutato/
LOCATION:Csili Művelődési Központ – Könyvtár\, Nagy Győry István u. 4-6.\, Budapest\, 1201
CATEGORIES:Kulturális esemény
ATTACH;FMTTYPE=image/png:https://pesterzsebet.hu/wp-content/uploads/ogton-jovok-konyvbemutato.png
END:VEVENT
END:VCALENDAR