BEGIN:VCALENDAR
VERSION:2.0
PRODID:-//Pesterzsébet Hivatalos oldala - ECPv6.15.20//NONSGML v1.0//EN
CALSCALE:GREGORIAN
METHOD:PUBLISH
X-WR-CALNAME:Pesterzsébet Hivatalos oldala
X-ORIGINAL-URL:https://pesterzsebet.hu
X-WR-CALDESC:Események Pesterzsébet Hivatalos oldala
REFRESH-INTERVAL;VALUE=DURATION:PT1H
X-Robots-Tag:noindex
X-PUBLISHED-TTL:PT1H
BEGIN:VTIMEZONE
TZID:Europe/Budapest
BEGIN:DAYLIGHT
TZOFFSETFROM:+0100
TZOFFSETTO:+0200
TZNAME:CEST
DTSTART:20230326T010000
END:DAYLIGHT
BEGIN:STANDARD
TZOFFSETFROM:+0200
TZOFFSETTO:+0100
TZNAME:CET
DTSTART:20231029T010000
END:STANDARD
BEGIN:DAYLIGHT
TZOFFSETFROM:+0100
TZOFFSETTO:+0200
TZNAME:CEST
DTSTART:20240331T010000
END:DAYLIGHT
BEGIN:STANDARD
TZOFFSETFROM:+0200
TZOFFSETTO:+0100
TZNAME:CET
DTSTART:20241027T010000
END:STANDARD
BEGIN:DAYLIGHT
TZOFFSETFROM:+0100
TZOFFSETTO:+0200
TZNAME:CEST
DTSTART:20250330T010000
END:DAYLIGHT
BEGIN:STANDARD
TZOFFSETFROM:+0200
TZOFFSETTO:+0100
TZNAME:CET
DTSTART:20251026T010000
END:STANDARD
END:VTIMEZONE
BEGIN:VEVENT
DTSTART;TZID=Europe/Budapest:20241002T170000
DTEND;TZID=Europe/Budapest:20241002T183000
DTSTAMP:20260422T221538
CREATED:20240921T063622Z
LAST-MODIFIED:20240921T063631Z
UID:41777-1727888400-1727893800@pesterzsebet.hu
SUMMARY:A FÁK AZ ÉGIG ÉRNEK: Molnár Júlia könyvbemutató
DESCRIPTION:A FÁK AZ ÉGIG ÉRNEK: Molnár Júlia könyvbemutató\nelőadására várunk minden kedves érdeklődőt október 2-án\,\nszerdán\, 17 órakor! \n  \nKözreműködnek: \n\nBaráti Kör Együttes\nKatona Mária ének – Szöllősi Dávid mandolin\nNémeth Nyiba Sándor a Krúdy Kör elnöke és a Krúdy Kör tagjai\nZsoldos Árpád és Adrienn az Irodalmi Rádió szerkesztői\n\n  \nMolnár Julianna bemutatkozása: \n„És olyan lesz\, mint a folyóvizek mellé ültetett fa\, amely idejekorán\, megadja gyümölcsét\, és levele nem hervad el: és minden munkájában jó szerencsés lészen.” (Zsoltárok könyve 3.) \nMolnár Julianna vagyok\, leánykori nevemen írok. A versírás szépsége három éve érintett meg. Óvodapedagógusi\, szociálpedagógus tanári diplomám van. Abonyban éltem 37 évig. Nagyon szeretem a várost\, több könyvbemutatóm színhelye az Abonyi Lajos Művelődési Ház. Jelenleg Budapesten élek\, Pesterzsébeten. Két verseskötetem jelent meg\, „Hogyan mondjam el neked?” „Ne félj\, mert megváltottalak!” címmel. Köteteimet az Irodalmi Rádió adta ki\, Zsoldos Árpád és Zsoldos Adrienn szerkesztésében. 17 antológiában jelentek meg verseim. 2023 óta a Krúdy Kör tagja vagyok. 2024-ben a Cserhát Művész Kör tagja lettem. Harmadik verseskötetem a természetről szól. Isten körülvesz bennünket a természet szépségeivel. A Biblia a fát az emberekkel azonosítja. A természet hozzánk ér\, érzéseket ébreszt bennünk. Nekünk is vannak gyökereink\, múltunk. Ahogy növekszünk ágaink lesznek\, leveleink\, lombunk. Az én fám ágain a sok-sok levél a verseim\, gyümölcse a szeretet\, amit az emberektől kapok. \nHazám tájait lépésenként járom be. Látom a hegyeinket\, folyóinkat. Érzem az emberek szeretetét\, ahogy haladunk az úton. Ez felejthetetlen élményeket nyújt a számunkra. Megélni a közös utat\, együtt közösségben. Vagy néha egyedül haladva az úton\, a cél felé Istennel\, mert tőle kaptuk a teremtett világ szépségeit. Ahogy „Úton” c. versemben leírom: „Vár a cél\, a remény vezeti léptedet. Veled van a hit\, a szeretet. Tiszta a szív\, minden dobbanása\, Előhívja belső lényedet. Világít a szerelem\, A szeretet öröme vezeti életed!” \nSzeretnék köszönetet mondani mindazoknak\, akik segítséget nyújtottak utamon\, hogy a verseim megszülettek. A Pesterzsébeti Főplébániának a Katekézisekért\, a misékért\, zarándoklatokért. A túratársaknak a sok szép túráért. Az Irodalmi Rádiónak\, hogy elindultam az úton. A Krúdy Körnek az Írótáborokért\, a sok előadásért\, a szeretetet adó közösségért\, a támogatásért. A fiamnak\, aki mindig mellettem állt. Köszönöm a Pesterzsébeti könyvtárnak\, hogy háromszor bemutathatom a versesköteteimet. Köszönöm Olvasóimnak\, akik kezükbe veszik a könyvem\, és gondolatban velem vannak az úton\, verseim által. Haladok tovább\, hol fájdalommal\, hol örömmel. Hittel\, reménnyel\, szeretettel\, a természetben és olvasóimmal\, kézen fogva\, a jövő felé. „Az én örömöm az\, hogy örömödre legyek.” (Biblia)” \n  \nA programok olvasóinknak ingyenesek\, bejelentkezni e-mail-ben\, vagy telefonon lehet. A jelentkezéshez kapcsolódó adatkezelési tájékoztató itt olvasható.osios
URL:https://pesterzsebet.hu/esemeny/a-fak-az-egig-ernek-molnar-julia-konyvbemutato/
LOCATION:Fővárosi Szabó Ervin Könyvtár XX/2. sz. könyvtára\, Bíró Mihály utca 7.\, Budapest\, 1023
CATEGORIES:Kulturális esemény
ATTACH;FMTTYPE=image/jpeg:https://pesterzsebet.hu/wp-content/uploads/konyvbemutato-e1726900526246.jpg
END:VEVENT
END:VCALENDAR