BEGIN:VCALENDAR
VERSION:2.0
PRODID:-//Pesterzsébet Hivatalos oldala - ECPv6.15.20//NONSGML v1.0//EN
CALSCALE:GREGORIAN
METHOD:PUBLISH
X-ORIGINAL-URL:https://pesterzsebet.hu
X-WR-CALDESC:Események Pesterzsébet Hivatalos oldala
REFRESH-INTERVAL;VALUE=DURATION:PT1H
X-Robots-Tag:noindex
X-PUBLISHED-TTL:PT1H
BEGIN:VTIMEZONE
TZID:Europe/Budapest
BEGIN:DAYLIGHT
TZOFFSETFROM:+0100
TZOFFSETTO:+0200
TZNAME:CEST
DTSTART:20220327T010000
END:DAYLIGHT
BEGIN:STANDARD
TZOFFSETFROM:+0200
TZOFFSETTO:+0100
TZNAME:CET
DTSTART:20221030T010000
END:STANDARD
BEGIN:DAYLIGHT
TZOFFSETFROM:+0100
TZOFFSETTO:+0200
TZNAME:CEST
DTSTART:20230326T010000
END:DAYLIGHT
BEGIN:STANDARD
TZOFFSETFROM:+0200
TZOFFSETTO:+0100
TZNAME:CET
DTSTART:20231029T010000
END:STANDARD
BEGIN:DAYLIGHT
TZOFFSETFROM:+0100
TZOFFSETTO:+0200
TZNAME:CEST
DTSTART:20240331T010000
END:DAYLIGHT
BEGIN:STANDARD
TZOFFSETFROM:+0200
TZOFFSETTO:+0100
TZNAME:CET
DTSTART:20241027T010000
END:STANDARD
END:VTIMEZONE
BEGIN:VEVENT
DTSTART;TZID=Europe/Budapest:20231123T140000
DTEND;TZID=Europe/Budapest:20231123T150000
DTSTAMP:20260423T024403
CREATED:20231104T215557Z
LAST-MODIFIED:20231104T215557Z
UID:38995-1700748000-1700751600@pesterzsebet.hu
SUMMARY:Kossuth szónoklatverseny
DESCRIPTION:Kerületi Kossuth-szónoklatverseny\náltalános- és középiskolások számára\, a\nKossuth Társaság szervezésében.\nA belépés ingyenes.
URL:https://pesterzsebet.hu/esemeny/kossuth-szonoklatverseny/
LOCATION:Csili Művelődési Központ- Vízvári terem\, Baross utca 55.\, Budapest
CATEGORIES:Kulturális esemény
ATTACH;FMTTYPE=image/png:https://pesterzsebet.hu/wp-content/uploads/kossuth_szonoklat-e1699134912950.png
END:VEVENT
END:VCALENDAR