BEGIN:VCALENDAR
VERSION:2.0
PRODID:-//Pesterzsébet Hivatalos oldala - ECPv6.15.20//NONSGML v1.0//EN
CALSCALE:GREGORIAN
METHOD:PUBLISH
X-ORIGINAL-URL:https://pesterzsebet.hu
X-WR-CALDESC:Események Pesterzsébet Hivatalos oldala
REFRESH-INTERVAL;VALUE=DURATION:PT1H
X-Robots-Tag:noindex
X-PUBLISHED-TTL:PT1H
BEGIN:VTIMEZONE
TZID:Europe/Budapest
BEGIN:DAYLIGHT
TZOFFSETFROM:+0100
TZOFFSETTO:+0200
TZNAME:CEST
DTSTART:20210328T010000
END:DAYLIGHT
BEGIN:STANDARD
TZOFFSETFROM:+0200
TZOFFSETTO:+0100
TZNAME:CET
DTSTART:20211031T010000
END:STANDARD
BEGIN:DAYLIGHT
TZOFFSETFROM:+0100
TZOFFSETTO:+0200
TZNAME:CEST
DTSTART:20220327T010000
END:DAYLIGHT
BEGIN:STANDARD
TZOFFSETFROM:+0200
TZOFFSETTO:+0100
TZNAME:CET
DTSTART:20221030T010000
END:STANDARD
BEGIN:DAYLIGHT
TZOFFSETFROM:+0100
TZOFFSETTO:+0200
TZNAME:CEST
DTSTART:20230326T010000
END:DAYLIGHT
BEGIN:STANDARD
TZOFFSETFROM:+0200
TZOFFSETTO:+0100
TZNAME:CET
DTSTART:20231029T010000
END:STANDARD
BEGIN:DAYLIGHT
TZOFFSETFROM:+0100
TZOFFSETTO:+0200
TZNAME:CEST
DTSTART:20240331T010000
END:DAYLIGHT
BEGIN:STANDARD
TZOFFSETFROM:+0200
TZOFFSETTO:+0100
TZNAME:CET
DTSTART:20241027T010000
END:STANDARD
END:VTIMEZONE
BEGIN:VEVENT
DTSTART;TZID=Europe/Budapest:20231230T180000
DTEND;TZID=Europe/Budapest:20231230T190000
DTSTAMP:20260419T190155
CREATED:20231202T064517Z
LAST-MODIFIED:20231202T064517Z
UID:39390-1703959200-1703962800@pesterzsebet.hu
SUMMARY:Akusztik live
DESCRIPTION:A Pesterzsébeti Kosuti Fesztivál programja az Adventi sátor alatt
URL:https://pesterzsebet.hu/esemeny/akusztik-live-16/
LOCATION:Kosuti\, Kossuth Lajos tér 1.\, Kossuth Lajos u. 1.\, Budapest\, Pest megye\, 1201\, Magyarország
CATEGORIES:Kulturális esemény
ATTACH;FMTTYPE=image/jpeg:https://pesterzsebet.hu/wp-content/uploads/Adventi_vasar-jo_page-0001-1-e1700153484608.jpg
END:VEVENT
BEGIN:VEVENT
DTSTART;TZID=Europe/Budapest:20231229T180000
DTEND;TZID=Europe/Budapest:20231229T190000
DTSTAMP:20260419T190155
CREATED:20231202T064353Z
LAST-MODIFIED:20231202T064353Z
UID:39388-1703872800-1703876400@pesterzsebet.hu
SUMMARY:Benkő Zsolt Kyru duo
DESCRIPTION:A Pesterzsébeti Kosuti Fesztivál programja az Adventi sátor alatt
URL:https://pesterzsebet.hu/esemeny/benko-zsolt-kyru-duo-3/
LOCATION:Pest megye
CATEGORIES:Kulturális esemény
ATTACH;FMTTYPE=image/jpeg:https://pesterzsebet.hu/wp-content/uploads/Adventi_vasar-jo_page-0001-1-e1700153484608.jpg
END:VEVENT
BEGIN:VEVENT
DTSTART;TZID=Europe/Budapest:20221114T080000
DTEND;TZID=Europe/Budapest:20221202T170000
DTSTAMP:20260419T190155
CREATED:20221026T035540Z
LAST-MODIFIED:20221026T035540Z
UID:34868-1668412800-1670000400@pesterzsebet.hu
SUMMARY:Erzsébet Napok visszatekintés
DESCRIPTION:30 év 30 kép\nHárom évtized alatt közel ezer program\, esemény került megrendezésre az Erzsébet Napok kulturális fesztivál keretén belül. \nKiállításunkon ezek közül csak pillanatokat villanthatunk fel\, a teljességre nem vállalkozunk. Biztosan sokan részesei voltak a rendezvényeknek akár fellépőként\, akár vendégként. \nJöjjenek el\, emlékezzünk együtt! \nA kiállítás december 9 – ig látogatható\, előzetes bejelentkezéssel. \nA belépés díjtalan!
URL:https://pesterzsebet.hu/esemeny/erzsebet-napok-visszatekintes/
LOCATION:Csili Alsóállomás\, Nagy Győri István u. 4-6\, Budapest\, Pest megye\, 1201\, Magyarország
CATEGORIES:Kiállítás,Kulturális esemény
END:VEVENT
BEGIN:VEVENT
DTSTART;TZID=Europe/Budapest:20220815T180000
DTEND;TZID=Europe/Budapest:20220821T190000
DTSTAMP:20260419T190155
CREATED:20220810T071505Z
LAST-MODIFIED:20220810T102459Z
UID:34237-1660586400-1661108400@pesterzsebet.hu
SUMMARY:IX. Kortárs Önarckép Biennálé
DESCRIPTION:2004-ben szervezték meg az első “Önvallomás” Kortárs Önarckép Biennálét\, mely folyamatosan nagy sikert arat azóta is\, mind a kiállító művészek\, mind a látogatók között.
URL:https://pesterzsebet.hu/esemeny/ix-kortars-onarckep-biennale/
LOCATION:Csili Művelődési Központ – Bubik István színházterem\, Nagy Győry István u. 4-6.\, Budapest\, Pest megye\, 1201\, Magyarország
CATEGORIES:Kiállítás,Kulturális esemény
END:VEVENT
END:VCALENDAR