BEGIN:VCALENDAR
VERSION:2.0
PRODID:-//Pesterzsébet Hivatalos oldala - ECPv6.15.20//NONSGML v1.0//EN
CALSCALE:GREGORIAN
METHOD:PUBLISH
X-WR-CALNAME:Pesterzsébet Hivatalos oldala
X-ORIGINAL-URL:https://pesterzsebet.hu
X-WR-CALDESC:Események Pesterzsébet Hivatalos oldala
REFRESH-INTERVAL;VALUE=DURATION:PT1H
X-Robots-Tag:noindex
X-PUBLISHED-TTL:PT1H
BEGIN:VTIMEZONE
TZID:Europe/Budapest
BEGIN:DAYLIGHT
TZOFFSETFROM:+0100
TZOFFSETTO:+0200
TZNAME:CEST
DTSTART:20220327T010000
END:DAYLIGHT
BEGIN:STANDARD
TZOFFSETFROM:+0200
TZOFFSETTO:+0100
TZNAME:CET
DTSTART:20221030T010000
END:STANDARD
BEGIN:DAYLIGHT
TZOFFSETFROM:+0100
TZOFFSETTO:+0200
TZNAME:CEST
DTSTART:20230326T010000
END:DAYLIGHT
BEGIN:STANDARD
TZOFFSETFROM:+0200
TZOFFSETTO:+0100
TZNAME:CET
DTSTART:20231029T010000
END:STANDARD
BEGIN:DAYLIGHT
TZOFFSETFROM:+0100
TZOFFSETTO:+0200
TZNAME:CEST
DTSTART:20240331T010000
END:DAYLIGHT
BEGIN:STANDARD
TZOFFSETFROM:+0200
TZOFFSETTO:+0100
TZNAME:CET
DTSTART:20241027T010000
END:STANDARD
END:VTIMEZONE
BEGIN:VEVENT
DTSTART;TZID=Europe/Budapest:20230511T170000
DTEND;TZID=Europe/Budapest:20230511T190000
DTSTAMP:20260424T043946
CREATED:20230412T183048Z
LAST-MODIFIED:20230412T183233Z
UID:36971-1683824400-1683831600@pesterzsebet.hu
SUMMARY:A Lajtha AMI hangversenye
DESCRIPTION:Pesterzsébeti Művészeti Napok \nFellépnek az iskola tanulói és művésztanárai
URL:https://pesterzsebet.hu/esemeny/a-lajtha-ami-hangversenye/
LOCATION:Rátkay-Átlók Galéria\, Klapka u. 48.\, Budapest\, 1201
CATEGORIES:Koncert
ATTACH;FMTTYPE=image/jpeg:https://pesterzsebet.hu/wp-content/uploads/ami-e1681324110346.jpg
END:VEVENT
BEGIN:VEVENT
DTSTART;TZID=Europe/Budapest:20230517T163000
DTEND;TZID=Europe/Budapest:20230517T173000
DTSTAMP:20260424T043946
CREATED:20230412T192010Z
LAST-MODIFIED:20230412T192010Z
UID:36977-1684341000-1684344600@pesterzsebet.hu
SUMMARY:Lajtha László AMI énekes növendékei
DESCRIPTION:A Pesterzsébeti Művészeti Napok \n” Nem az a fontos\, az ember hány éves…” \nTanár: Tassonyiné Zalai Lídia \nZongorán közreműködik: Karmanóczki Tünde
URL:https://pesterzsebet.hu/esemeny/lajtha-laszlo-ami-enekes-novendekei/
LOCATION:Rátkay-Átlók Galéria\, Klapka u. 48.\, Budapest\, 1201
CATEGORIES:Koncert
ATTACH;FMTTYPE=image/jpeg:https://pesterzsebet.hu/wp-content/uploads/ami-e1681324110346.jpg
END:VEVENT
END:VCALENDAR