BEGIN:VCALENDAR
VERSION:2.0
PRODID:-//Pesterzsébet Hivatalos oldala - ECPv6.15.20//NONSGML v1.0//EN
CALSCALE:GREGORIAN
METHOD:PUBLISH
X-ORIGINAL-URL:https://pesterzsebet.hu
X-WR-CALDESC:Események Pesterzsébet Hivatalos oldala
REFRESH-INTERVAL;VALUE=DURATION:PT1H
X-Robots-Tag:noindex
X-PUBLISHED-TTL:PT1H
BEGIN:VTIMEZONE
TZID:Europe/Budapest
BEGIN:DAYLIGHT
TZOFFSETFROM:+0100
TZOFFSETTO:+0200
TZNAME:CEST
DTSTART:20230326T010000
END:DAYLIGHT
BEGIN:STANDARD
TZOFFSETFROM:+0200
TZOFFSETTO:+0100
TZNAME:CET
DTSTART:20231029T010000
END:STANDARD
BEGIN:DAYLIGHT
TZOFFSETFROM:+0100
TZOFFSETTO:+0200
TZNAME:CEST
DTSTART:20240331T010000
END:DAYLIGHT
BEGIN:STANDARD
TZOFFSETFROM:+0200
TZOFFSETTO:+0100
TZNAME:CET
DTSTART:20241027T010000
END:STANDARD
BEGIN:DAYLIGHT
TZOFFSETFROM:+0100
TZOFFSETTO:+0200
TZNAME:CEST
DTSTART:20250330T010000
END:DAYLIGHT
BEGIN:STANDARD
TZOFFSETFROM:+0200
TZOFFSETTO:+0100
TZNAME:CET
DTSTART:20251026T010000
END:STANDARD
END:VTIMEZONE
BEGIN:VEVENT
DTSTART;TZID=Europe/Budapest:20240527T173000
DTEND;TZID=Europe/Budapest:20240527T183000
DTSTAMP:20260419T210307
CREATED:20240501T191342Z
LAST-MODIFIED:20240501T191342Z
UID:40670-1716831000-1716834600@pesterzsebet.hu
SUMMARY:Miért nincs a nőknek önbizalmuk? – Bihari Viki előadása
DESCRIPTION:Miért nincs a nőknek önbizalmuk? Persze vannak kivételek\, de ez az est nem róluk fog szólni.Az önbizalom mindennek az alapja\, erre lehet várat építeni. De hogyan? Mitől alakul ki\, mitől tűnik el? Akinek van\, az honnan szerzi? És kívülről is látszik?\nBihari Viki szókimondó önismereti estjén ezekről\, és még sok minden másról lesz szó\, humorral\, nevetéssel\, aha-élményekkel fűszerezve. Várunk mindenkit szeretettel!\nElőadó: Bihari Viki író\, blogger és színésznő\nHelyszín: Vízvári terem (Baross utca 55.)\nBelépés: ingyenes\, de regisztrációhoz kötött (regisztrálni a szervezőnél lehet)
URL:https://pesterzsebet.hu/esemeny/miert-nincs-a-noknek-onbizalmuk-bihari-viki-eloadasa/
LOCATION:Csili Művelődési Ház Vízvári László termében\, Baross utca 55.\, Budapest\, 1201
CATEGORIES:Egészség
ATTACH;FMTTYPE=image/png:https://pesterzsebet.hu/wp-content/uploads/bihari-e1714590299266.png
END:VEVENT
END:VCALENDAR