BEGIN:VCALENDAR
VERSION:2.0
PRODID:-//Pesterzsébet Hivatalos oldala - ECPv6.15.20//NONSGML v1.0//EN
CALSCALE:GREGORIAN
METHOD:PUBLISH
X-ORIGINAL-URL:https://pesterzsebet.hu
X-WR-CALDESC:Események Pesterzsébet Hivatalos oldala
REFRESH-INTERVAL;VALUE=DURATION:PT1H
X-Robots-Tag:noindex
X-PUBLISHED-TTL:PT1H
BEGIN:VTIMEZONE
TZID:Europe/Budapest
BEGIN:DAYLIGHT
TZOFFSETFROM:+0100
TZOFFSETTO:+0200
TZNAME:CEST
DTSTART:20220327T010000
END:DAYLIGHT
BEGIN:STANDARD
TZOFFSETFROM:+0200
TZOFFSETTO:+0100
TZNAME:CET
DTSTART:20221030T010000
END:STANDARD
BEGIN:DAYLIGHT
TZOFFSETFROM:+0100
TZOFFSETTO:+0200
TZNAME:CEST
DTSTART:20230326T010000
END:DAYLIGHT
BEGIN:STANDARD
TZOFFSETFROM:+0200
TZOFFSETTO:+0100
TZNAME:CET
DTSTART:20231029T010000
END:STANDARD
BEGIN:DAYLIGHT
TZOFFSETFROM:+0100
TZOFFSETTO:+0200
TZNAME:CEST
DTSTART:20240331T010000
END:DAYLIGHT
BEGIN:STANDARD
TZOFFSETFROM:+0200
TZOFFSETTO:+0100
TZNAME:CET
DTSTART:20241027T010000
END:STANDARD
END:VTIMEZONE
BEGIN:VEVENT
DTSTART;TZID=Europe/Budapest:20230909T130000
DTEND;TZID=Europe/Budapest:20230909T170000
DTSTAMP:20260419T150736
CREATED:20230824T102858Z
LAST-MODIFIED:20230824T102858Z
UID:38163-1694264400-1694278800@pesterzsebet.hu
SUMMARY:Nemzetiségek Napja A Városháza előtt
DESCRIPTION:A Nemzetiségi Önkormányzatok Kulturális Napja alkalmából 2023. szeptember 9-én 13 órakor a Városháza előtti sétálóutcában (Kossuth Lajos tér 1.) a kerületi nemzetiségek adnak ízelítőt kulturális életükből.
URL:https://pesterzsebet.hu/esemeny/nemzetisegek-napja-a-varoshaza-elott/
LOCATION:Kosuti\, Kossuth Lajos tér 1.\, Kossuth Lajos u. 1.\, Budapest\, Pest megye\, 1201\, Magyarország
CATEGORIES:Kulturális esemény
ATTACH;FMTTYPE=image/jpeg:https://pesterzsebet.hu/wp-content/uploads/NEMZETISEGI_NAP_PLAKAT_page-0001-1-e1692872868366.jpg
END:VEVENT
END:VCALENDAR