BEGIN:VCALENDAR
VERSION:2.0
PRODID:-//Pesterzsébet Hivatalos oldala - ECPv6.15.20//NONSGML v1.0//EN
CALSCALE:GREGORIAN
METHOD:PUBLISH
X-WR-CALNAME:Pesterzsébet Hivatalos oldala
X-ORIGINAL-URL:https://pesterzsebet.hu
X-WR-CALDESC:Események Pesterzsébet Hivatalos oldala
REFRESH-INTERVAL;VALUE=DURATION:PT1H
X-Robots-Tag:noindex
X-PUBLISHED-TTL:PT1H
BEGIN:VTIMEZONE
TZID:Europe/Budapest
BEGIN:DAYLIGHT
TZOFFSETFROM:+0100
TZOFFSETTO:+0200
TZNAME:CEST
DTSTART:20220327T010000
END:DAYLIGHT
BEGIN:STANDARD
TZOFFSETFROM:+0200
TZOFFSETTO:+0100
TZNAME:CET
DTSTART:20221030T010000
END:STANDARD
BEGIN:DAYLIGHT
TZOFFSETFROM:+0100
TZOFFSETTO:+0200
TZNAME:CEST
DTSTART:20230326T010000
END:DAYLIGHT
BEGIN:STANDARD
TZOFFSETFROM:+0200
TZOFFSETTO:+0100
TZNAME:CET
DTSTART:20231029T010000
END:STANDARD
BEGIN:DAYLIGHT
TZOFFSETFROM:+0100
TZOFFSETTO:+0200
TZNAME:CEST
DTSTART:20240331T010000
END:DAYLIGHT
BEGIN:STANDARD
TZOFFSETFROM:+0200
TZOFFSETTO:+0100
TZNAME:CET
DTSTART:20241027T010000
END:STANDARD
END:VTIMEZONE
BEGIN:VEVENT
DTSTART;TZID=Europe/Budapest:20230307T180000
DTEND;TZID=Europe/Budapest:20230307T193000
DTSTAMP:20260424T125040
CREATED:20230127T053346Z
LAST-MODIFIED:20230221T051511Z
UID:35615-1678212000-1678217400@pesterzsebet.hu
SUMMARY:Gerendás Péter nőnapi koncertje
DESCRIPTION:Gerendás Péter  Liszt Ferenc-díjas magyar zeneszerző\, előadóművész\, szövegíró\, gitáros.\nZenéjét leginkább a latin\, rock és lírai dallamok jellemzik\, de közel áll hozzá a jazz is. \nNőnap alkalmával saját lírai hangvételű dalaival köszönti a hölgyeket.
URL:https://pesterzsebet.hu/esemeny/gerendas-peter-nonapi-koncertje/
LOCATION:Csili Művelődési Központ- Vízvári terem\, Baross utca 55.\, Budapest
CATEGORIES:Koncert
END:VEVENT
END:VCALENDAR