BEGIN:VCALENDAR
VERSION:2.0
PRODID:-//Pesterzsébet Hivatalos oldala - ECPv6.15.20//NONSGML v1.0//EN
CALSCALE:GREGORIAN
METHOD:PUBLISH
X-WR-CALNAME:Pesterzsébet Hivatalos oldala
X-ORIGINAL-URL:https://pesterzsebet.hu
X-WR-CALDESC:Események Pesterzsébet Hivatalos oldala
REFRESH-INTERVAL;VALUE=DURATION:PT1H
X-Robots-Tag:noindex
X-PUBLISHED-TTL:PT1H
BEGIN:VTIMEZONE
TZID:Europe/Budapest
BEGIN:DAYLIGHT
TZOFFSETFROM:+0100
TZOFFSETTO:+0200
TZNAME:CEST
DTSTART:20220327T010000
END:DAYLIGHT
BEGIN:STANDARD
TZOFFSETFROM:+0200
TZOFFSETTO:+0100
TZNAME:CET
DTSTART:20221030T010000
END:STANDARD
BEGIN:DAYLIGHT
TZOFFSETFROM:+0100
TZOFFSETTO:+0200
TZNAME:CEST
DTSTART:20230326T010000
END:DAYLIGHT
BEGIN:STANDARD
TZOFFSETFROM:+0200
TZOFFSETTO:+0100
TZNAME:CET
DTSTART:20231029T010000
END:STANDARD
BEGIN:DAYLIGHT
TZOFFSETFROM:+0100
TZOFFSETTO:+0200
TZNAME:CEST
DTSTART:20240331T010000
END:DAYLIGHT
BEGIN:STANDARD
TZOFFSETFROM:+0200
TZOFFSETTO:+0100
TZNAME:CET
DTSTART:20241027T010000
END:STANDARD
END:VTIMEZONE
BEGIN:VEVENT
DTSTART;TZID=Europe/Budapest:20231114T143000
DTEND;TZID=Europe/Budapest:20231114T153000
DTSTAMP:20260423T190753
CREATED:20231104T203100Z
LAST-MODIFIED:20231104T203100Z
UID:38972-1699972200-1699975800@pesterzsebet.hu
SUMMARY:PetőFIgurák eredményhirdetés és kiállításmegnyitó
DESCRIPTION:A Kossuth Társaság és a Fővárosi Szabó Ervin Könyvtár Bíró Mihály utcai Könyvtára közös rajzpályázatot hirdet Petőfi Sándor születésének 200. évfordulója kapcsán.\nKészíts illusztrációt egy Petőfi vershez!\nBármilyen technikával alkothatsz: festhetsz\, rajzolhatsz\, ragaszthatsz\, 3D-s mű is készülhet…\nBeküldési határidő: 2023. november 9. csütörtök 19 óra\nDíjátadó\, eredményhirdetés és a művekből készült kiállítás megnyitója az idei Erzsébet napok programsorozat részeként 2023. november 14-én\, kedden\, 14:30-kor lesz.\nHelyszín: Bíró Mihály utcai Szabó Ervin Könyvtár\nA belépés ingyenes.
URL:https://pesterzsebet.hu/esemeny/petofigurak-eredmenyhirdetes-es-kiallitasmegnyito/
LOCATION:Pesterzsébeti Szabó Ervin Könyvtár\, Bíró Mihály utca 7.\, Budapest\, 1203
CATEGORIES:Kiállítás
ATTACH;FMTTYPE=image/png:https://pesterzsebet.hu/wp-content/uploads/petofigurak.png
END:VEVENT
END:VCALENDAR