BEGIN:VCALENDAR
VERSION:2.0
PRODID:-//Pesterzsébet Hivatalos oldala - ECPv6.15.20//NONSGML v1.0//EN
CALSCALE:GREGORIAN
METHOD:PUBLISH
X-ORIGINAL-URL:https://pesterzsebet.hu
X-WR-CALDESC:Események Pesterzsébet Hivatalos oldala
REFRESH-INTERVAL;VALUE=DURATION:PT1H
X-Robots-Tag:noindex
X-PUBLISHED-TTL:PT1H
BEGIN:VTIMEZONE
TZID:Europe/Budapest
BEGIN:DAYLIGHT
TZOFFSETFROM:+0100
TZOFFSETTO:+0200
TZNAME:CEST
DTSTART:20220327T010000
END:DAYLIGHT
BEGIN:STANDARD
TZOFFSETFROM:+0200
TZOFFSETTO:+0100
TZNAME:CET
DTSTART:20221030T010000
END:STANDARD
BEGIN:DAYLIGHT
TZOFFSETFROM:+0100
TZOFFSETTO:+0200
TZNAME:CEST
DTSTART:20230326T010000
END:DAYLIGHT
BEGIN:STANDARD
TZOFFSETFROM:+0200
TZOFFSETTO:+0100
TZNAME:CET
DTSTART:20231029T010000
END:STANDARD
BEGIN:DAYLIGHT
TZOFFSETFROM:+0100
TZOFFSETTO:+0200
TZNAME:CEST
DTSTART:20240331T010000
END:DAYLIGHT
BEGIN:STANDARD
TZOFFSETFROM:+0200
TZOFFSETTO:+0100
TZNAME:CET
DTSTART:20241027T010000
END:STANDARD
END:VTIMEZONE
BEGIN:VEVENT
DTSTART;TZID=Europe/Budapest:20230429T150000
DTEND;TZID=Europe/Budapest:20230429T180000
DTSTAMP:20260424T043948
CREATED:20230221T052333Z
LAST-MODIFIED:20230328T041808Z
UID:36013-1682780400-1682791200@pesterzsebet.hu
SUMMARY:Nemzetiségi Népzenei Találkozó
DESCRIPTION:Csili Népdalkörrel közös szervezésben Nemzetiségi Népzenei Találkozó.\nRégi hagyomány\, hogy budapesti\, vidéki és határon túli népdalkörök\, népzenészek és néptáncosok mutatják be produkcióikat. \nAz eseményt 14 órától a Pesterzsébeti Fúvószenekar vezetésével egy közös felvonulással kezdődik\, amely a Szent Erzsébet Templomtól indul és a Csili Művelődési Központba érkezik. \nA Csili nagyterem színpadán 15 órától mutatják be a csoportok előadásaikat.
URL:https://pesterzsebet.hu/esemeny/nemzetisegi-nepzenei-talalkozo/
LOCATION:Csili Művelődési Központ – Bubik István színházterem\, Nagy Győry István u. 4-6.\, Budapest\, Pest megye\, 1201\, Magyarország
CATEGORIES:Kulturális esemény
ATTACH;FMTTYPE=image/jpeg:https://pesterzsebet.hu/wp-content/uploads/Csili_nepzenei_talalkozo.jpg
END:VEVENT
END:VCALENDAR