BEGIN:VCALENDAR
VERSION:2.0
PRODID:-//Pesterzsébet Hivatalos oldala - ECPv6.15.20//NONSGML v1.0//EN
CALSCALE:GREGORIAN
METHOD:PUBLISH
X-WR-CALNAME:Pesterzsébet Hivatalos oldala
X-ORIGINAL-URL:https://pesterzsebet.hu
X-WR-CALDESC:Események Pesterzsébet Hivatalos oldala
REFRESH-INTERVAL;VALUE=DURATION:PT1H
X-Robots-Tag:noindex
X-PUBLISHED-TTL:PT1H
BEGIN:VTIMEZONE
TZID:Europe/Budapest
BEGIN:DAYLIGHT
TZOFFSETFROM:+0100
TZOFFSETTO:+0200
TZNAME:CEST
DTSTART:20210328T010000
END:DAYLIGHT
BEGIN:STANDARD
TZOFFSETFROM:+0200
TZOFFSETTO:+0100
TZNAME:CET
DTSTART:20211031T010000
END:STANDARD
BEGIN:DAYLIGHT
TZOFFSETFROM:+0100
TZOFFSETTO:+0200
TZNAME:CEST
DTSTART:20220327T010000
END:DAYLIGHT
BEGIN:STANDARD
TZOFFSETFROM:+0200
TZOFFSETTO:+0100
TZNAME:CET
DTSTART:20221030T010000
END:STANDARD
BEGIN:DAYLIGHT
TZOFFSETFROM:+0100
TZOFFSETTO:+0200
TZNAME:CEST
DTSTART:20230326T010000
END:DAYLIGHT
BEGIN:STANDARD
TZOFFSETFROM:+0200
TZOFFSETTO:+0100
TZNAME:CET
DTSTART:20231029T010000
END:STANDARD
END:VTIMEZONE
BEGIN:VEVENT
DTSTART;TZID=Europe/Budapest:20220624T181500
DTEND;TZID=Europe/Budapest:20220624T191500
DTSTAMP:20260425T020935
CREATED:20220619T084135Z
LAST-MODIFIED:20220619T084135Z
UID:33808-1656094500-1656098100@pesterzsebet.hu
SUMMARY:Alakformáló torna
DESCRIPTION:Az alakformáló torna során fejlődik az izomzatunk\, erősödnek a mélyizmok\, javul a testtartás. A különböző eszközök használata (gumikötél\, súlyzó\, labda) segíti testünk formálását\, az intenzív mozgás pedig a fogyást\, az állóképesség javulását. \nKét csoport:\nPéntek: 18.15 -19.15 óra\nVezeti: Horváthné Rabóczki Mónika
URL:https://pesterzsebet.hu/esemeny/alakformalo-torna-2/
LOCATION:Csili Művelődési Központ “B” épület\, Baross u. 55.\, Budapest\, Pest megye\, 1201\, Magyarország
CATEGORIES:Sport
END:VEVENT
END:VCALENDAR